BEGIN:VCALENDAR
VERSION:2.0
PRODID:-//The Oar Seafood Grille - ECPv6.15.20//NONSGML v1.0//EN
CALSCALE:GREGORIAN
METHOD:PUBLISH
X-WR-CALNAME:The Oar Seafood Grille
X-ORIGINAL-URL:https://theoar.com
X-WR-CALDESC:Events for The Oar Seafood Grille
REFRESH-INTERVAL;VALUE=DURATION:PT1H
X-Robots-Tag:noindex
X-PUBLISHED-TTL:PT1H
BEGIN:VTIMEZONE
TZID:UTC
BEGIN:STANDARD
TZOFFSETFROM:+0000
TZOFFSETTO:+0000
TZNAME:UTC
DTSTART:20230101T000000
END:STANDARD
END:VTIMEZONE
BEGIN:VEVENT
DTSTART;TZID=UTC:20241123T183000
DTEND;TZID=UTC:20241123T233000
DTSTAMP:20260422T085724
CREATED:20241111T224727Z
LAST-MODIFIED:20241111T224727Z
UID:10000005-1732386600-1732404600@theoar.com
SUMMARY:JD Leonard
DESCRIPTION:Start your Saturday evening with JD Leonard at The Oar! Music starts at 6:30PM
URL:https://theoar.com/event/jd-leonard/
END:VEVENT
BEGIN:VEVENT
DTSTART;TZID=UTC:20241122T183000
DTEND;TZID=UTC:20241122T233000
DTSTAMP:20260422T085724
CREATED:20241111T231902Z
LAST-MODIFIED:20241111T231902Z
UID:10000006-1732300200-1732318200@theoar.com
SUMMARY:Urban Acoustic Joe
DESCRIPTION:We’ll have Urban Acoustic Joe performing live at 6:30PM!
URL:https://theoar.com/event/urban-acoustic-joe/
END:VEVENT
BEGIN:VEVENT
DTSTART;TZID=UTC:20241116T183000
DTEND;TZID=UTC:20241116T233000
DTSTAMP:20260422T085724
CREATED:20241111T232006Z
LAST-MODIFIED:20241111T232006Z
UID:10000007-1731781800-1731799800@theoar.com
SUMMARY:Kevin Van Wyen
DESCRIPTION:Catch Kevin Van Wyen bringing the tunes to The Oar! Music begins at 6:30PM
URL:https://theoar.com/event/kevin-van-wyen/
END:VEVENT
BEGIN:VEVENT
DTSTART;TZID=UTC:20241115T183000
DTEND;TZID=UTC:20241115T233000
DTSTAMP:20260422T085724
CREATED:20241112T002231Z
LAST-MODIFIED:20241112T002231Z
UID:10000008-1731695400-1731713400@theoar.com
SUMMARY:B4 Dawn Acoustic
DESCRIPTION:Enjoy the sounds of B4 Dawn Acoustic! Music starts at 6:30PM
URL:https://theoar.com/event/b4-dawn-acoustic/
END:VEVENT
BEGIN:VEVENT
DTSTART;TZID=UTC:20241109T183000
DTEND;TZID=UTC:20241109T183000
DTSTAMP:20260422T085724
CREATED:20241112T004304Z
LAST-MODIFIED:20241112T004752Z
UID:10000011-1731177000-1731177000@theoar.com
SUMMARY:Jimmy Shaka
DESCRIPTION:Spend your Saturday jamming with Jimmy Shaka! Music begins at 6:30pm
URL:https://theoar.com/event/jimmy-shaka/
END:VEVENT
BEGIN:VEVENT
DTSTART;TZID=UTC:20241108T080000
DTEND;TZID=UTC:20241108T170000
DTSTAMP:20260422T085724
CREATED:20241112T004521Z
LAST-MODIFIED:20241112T004521Z
UID:10000009-1731052800-1731085200@theoar.com
SUMMARY:Vin & Lin
DESCRIPTION:Kickstart the weekend with Vin & Lin at 6:30PM!
URL:https://theoar.com/event/vin-lin/
END:VEVENT
BEGIN:VEVENT
DTSTART;TZID=UTC:20241102T183000
DTEND;TZID=UTC:20241102T233000
DTSTAMP:20260422T085724
CREATED:20241112T004702Z
LAST-MODIFIED:20241112T004702Z
UID:10000010-1730572200-1730590200@theoar.com
SUMMARY:The Lighter Side
DESCRIPTION:Catch The Lighter Sider performing live with us at 6:30PM!
URL:https://theoar.com/event/the-lighter-side/
END:VEVENT
END:VCALENDAR