BEGIN:VCALENDAR
VERSION:2.0
PRODID:-//The Oar Seafood Grille - ECPv6.15.20//NONSGML v1.0//EN
CALSCALE:GREGORIAN
METHOD:PUBLISH
X-WR-CALNAME:The Oar Seafood Grille
X-ORIGINAL-URL:https://theoar.com
X-WR-CALDESC:Events for The Oar Seafood Grille
REFRESH-INTERVAL;VALUE=DURATION:PT1H
X-Robots-Tag:noindex
X-PUBLISHED-TTL:PT1H
BEGIN:VTIMEZONE
TZID:UTC
BEGIN:STANDARD
TZOFFSETFROM:+0000
TZOFFSETTO:+0000
TZNAME:UTC
DTSTART:20240101T000000
END:STANDARD
END:VTIMEZONE
BEGIN:VEVENT
DTSTART;TZID=UTC:20251018T183000
DTEND;TZID=UTC:20251018T223000
DTSTAMP:20260421T154434
CREATED:20250930T160156Z
LAST-MODIFIED:20250930T160156Z
UID:10000518-1760812200-1760826600@theoar.com
SUMMARY:The Lighter Side
DESCRIPTION:Brighten your weekend with The Lighter Side performing live at The Oar! 🎶🍹A perfect evening of live music\, dining\, and waterfront charm.
URL:https://theoar.com/event/the-lighter-side-2/
END:VEVENT
BEGIN:VEVENT
DTSTART;TZID=UTC:20251017T183000
DTEND;TZID=UTC:20251017T223000
DTSTAMP:20260421T154434
CREATED:20250930T155827Z
LAST-MODIFIED:20250930T155827Z
UID:10000517-1760725800-1760740200@theoar.com
SUMMARY:JD Leonard
DESCRIPTION:Enjoy a night of live entertainment with JD Leonard performing at The Oar. 🎸✨Pair your evening with our fresh seafood\, cocktails\, and sunset views.
URL:https://theoar.com/event/jd-leonard-6/
END:VEVENT
BEGIN:VEVENT
DTSTART;TZID=UTC:20251011T183000
DTEND;TZID=UTC:20251011T223000
DTSTAMP:20260421T154434
CREATED:20250930T155656Z
LAST-MODIFIED:20250930T155656Z
UID:10000516-1760207400-1760221800@theoar.com
SUMMARY:Dan Donnelly
DESCRIPTION:Join us for an evening of music by Dan Donnelly while you dine on your Oar favorites. 🦪🥂The perfect Saturday night out on the water.
URL:https://theoar.com/event/dan-donnelly-4/
END:VEVENT
BEGIN:VEVENT
DTSTART;TZID=UTC:20251010T183000
DTEND;TZID=UTC:20251010T223000
DTSTAMP:20260421T154434
CREATED:20250930T155607Z
LAST-MODIFIED:20251008T182216Z
UID:10000515-1760121000-1760135400@theoar.com
SUMMARY:Vinny & PJ Duo
DESCRIPTION:Live music returns with the talented Vinny & PJ Duo! 🎶Perfect for a night of dining\, drinks\, and dancing on the water.
URL:https://theoar.com/event/shawn-rooney-marcella-2/
END:VEVENT
BEGIN:VEVENT
DTSTART;TZID=UTC:20251004T183000
DTEND;TZID=UTC:20251004T223000
DTSTAMP:20260421T154434
CREATED:20250930T155437Z
LAST-MODIFIED:20251003T143048Z
UID:10000514-1759602600-1759617000@theoar.com
SUMMARY:Radiophonic Duo
DESCRIPTION:Spend your Saturday night with the soulful sounds of Radiophonic Duo at The Oar. 🎹🎶Grab a cocktail\, savor our dinner specials\, and let the music set the vibe.
URL:https://theoar.com/event/danny-kean-2/
END:VEVENT
BEGIN:VEVENT
DTSTART;TZID=UTC:20251003T183000
DTEND;TZID=UTC:20251003T223000
DTSTAMP:20260421T154434
CREATED:20250930T155318Z
LAST-MODIFIED:20250930T155318Z
UID:10000513-1759516200-1759530600@theoar.com
SUMMARY:Vin & Lin Duo
DESCRIPTION:Kick off your weekend with live music by the Vin & Lin Duo! 🎸🎤Enjoy a night of great tunes\, delicious seafood\, and waterfront views at The Oar.
URL:https://theoar.com/event/vin-lin-duo-3/
END:VEVENT
BEGIN:VEVENT
DTSTART;TZID=UTC:20250927T183000
DTEND;TZID=UTC:20250927T223000
DTSTAMP:20260421T154434
CREATED:20250902T170052Z
LAST-MODIFIED:20250902T170052Z
UID:10000511-1758997800-1759012200@theoar.com
SUMMARY:Jimmy Sciacca
DESCRIPTION:Close out September with an unforgettable night of live music by Jimmy Sciacca at 6:30 PM. The perfect Saturday on the river!
URL:https://theoar.com/event/jimmy-sciacca-2/
END:VEVENT
BEGIN:VEVENT
DTSTART;TZID=UTC:20250926T183000
DTEND;TZID=UTC:20250926T223000
DTSTAMP:20260421T154434
CREATED:20250902T165948Z
LAST-MODIFIED:20250926T175039Z
UID:10000510-1758911400-1758925800@theoar.com
SUMMARY:Dan Donnelly
DESCRIPTION:Catch Dan Donnelly live at The Oar starting at 6:30 PM. Don’t miss this high-energy waterfront performance.
URL:https://theoar.com/event/shawn-rooney-marcella-on-the-sax-5/
END:VEVENT
BEGIN:VEVENT
DTSTART;TZID=UTC:20250920T183000
DTEND;TZID=UTC:20250920T223000
DTSTAMP:20260421T154434
CREATED:20250902T165848Z
LAST-MODIFIED:20250902T165848Z
UID:10000509-1758393000-1758407400@theoar.com
SUMMARY:Lis Beth
DESCRIPTION:Savor Saturday night vibes with LisBeth live at 6:30 PM. Pair the music with fresh seafood\, craft cocktails\, and the sunset over the docks.
URL:https://theoar.com/event/lis-beth-2/
END:VEVENT
BEGIN:VEVENT
DTSTART;TZID=UTC:20250919T183000
DTEND;TZID=UTC:20250919T223000
DTSTAMP:20260421T154434
CREATED:20250902T165752Z
LAST-MODIFIED:20250902T165752Z
UID:10000508-1758306600-1758321000@theoar.com
SUMMARY:
DESCRIPTION:Friday nights on the water are better with Matt Bruno live at 6:30 PM! Grab a drink\, grab a seat\, and let the weekend begin.
URL:https://theoar.com/event/10094/
END:VEVENT
BEGIN:VEVENT
DTSTART;TZID=UTC:20250914T160000
DTEND;TZID=UTC:20250914T200000
DTSTAMP:20260421T154434
CREATED:20250902T165643Z
LAST-MODIFIED:20250902T165643Z
UID:10000507-1757865600-1757880000@theoar.com
SUMMARY:Michael Friedell Trio
DESCRIPTION:Unwind by the marina with smooth sounds from the Michael Friedell Trio starting at 4:00 PM. A relaxing Sunday afternoon done right.
URL:https://theoar.com/event/michael-friedell-trio-3/
END:VEVENT
BEGIN:VEVENT
DTSTART;VALUE=DATE:20250914
DTEND;VALUE=DATE:20250915
DTSTAMP:20260421T154434
CREATED:20250912T185150Z
LAST-MODIFIED:20250912T185150Z
UID:10000512-1757808000-1757894399@theoar.com
SUMMARY:Drink the Gazebo Dry
DESCRIPTION:Join us on Sunday\, September 14th for the ultimate waterfront Sunday Funday. \n✨ Event Highlights:\n🍺 Happy Hour Specials & $4 Tap Beer\n🎶 Live Music by the Michael Friedell Trio starting at 4PM\n🌊 Beautiful gazebo & waterfront views \nRound up your friends and enjoy great drinks\, delicious food\, and unbeatable vibes by the water. Let’s drink the gazebo dry together! 🍻
URL:https://theoar.com/event/drink-the-gazebo-dry/
END:VEVENT
BEGIN:VEVENT
DTSTART;TZID=UTC:20250913T183000
DTEND;TZID=UTC:20250913T223000
DTSTAMP:20260421T154434
CREATED:20250902T164326Z
LAST-MODIFIED:20250908T183033Z
UID:10000506-1757788200-1757802600@theoar.com
SUMMARY:Easy Street Band
DESCRIPTION:Your Saturday soundtrack: Easy Street Band live at 6:30 PM! Join us for delicious food\, handcrafted cocktails\, and an unbeatable waterfront atmosphere.
URL:https://theoar.com/event/east-street-band/
END:VEVENT
BEGIN:VEVENT
DTSTART;TZID=UTC:20250912T183000
DTEND;TZID=UTC:20250912T223000
DTSTAMP:20260421T154434
CREATED:20250902T164136Z
LAST-MODIFIED:20250902T164136Z
UID:10000505-1757701800-1757716200@theoar.com
SUMMARY:Mac Attack
DESCRIPTION:Get ready to move and groove with Mac Attack live at The Oar! Music starts at 6:30 PM—arrive early for dinner and drinks by the water.
URL:https://theoar.com/event/mac-attack-5/
END:VEVENT
BEGIN:VEVENT
DTSTART;TZID=UTC:20250907T160000
DTEND;TZID=UTC:20250907T200000
DTSTAMP:20260421T154434
CREATED:20250902T164047Z
LAST-MODIFIED:20250902T164047Z
UID:10000504-1757260800-1757275200@theoar.com
SUMMARY:Shawn Rooney & Marcella on the Sax
DESCRIPTION:Spend your Sunday afternoon by the marina with live tunes from Shawn Rooney & Marcella on the Sax starting at 4:00 PM. Perfect for brunch\, lunch\, or dinner on the deck!
URL:https://theoar.com/event/shawn-rooney-marcella-on-the-sax-4/
END:VEVENT
BEGIN:VEVENT
DTSTART;TZID=UTC:20250905T183000
DTEND;TZID=UTC:20250905T223000
DTSTAMP:20260421T154434
CREATED:20250902T163823Z
LAST-MODIFIED:20250902T163823Z
UID:10000502-1757097000-1757111400@theoar.com
SUMMARY:Justice
DESCRIPTION:Kick off your weekend on the Patchogue River with live music by Justice starting at 6:30 PM! Pair the perfect sunset with fresh seafood\, cocktails\, and great vibes on the water.
URL:https://theoar.com/event/justice/
END:VEVENT
BEGIN:VEVENT
DTSTART;TZID=UTC:20250831T160000
DTEND;TZID=UTC:20250831T200000
DTSTAMP:20260421T154434
CREATED:20250721T163918Z
LAST-MODIFIED:20250723T150154Z
UID:10000501-1756656000-1756670400@theoar.com
SUMMARY:Mac Attack
DESCRIPTION:Don’t let the weekend end just yet – Catch Mac Attack on stage at 4PM
URL:https://theoar.com/event/mac-attack-4/
END:VEVENT
BEGIN:VEVENT
DTSTART;TZID=UTC:20250830T183000
DTEND;TZID=UTC:20250830T223000
DTSTAMP:20260421T154434
CREATED:20250721T163807Z
LAST-MODIFIED:20250827T150545Z
UID:10000500-1756578600-1756593000@theoar.com
SUMMARY:Trap Katz
DESCRIPTION:Saturday night at the gazebo bar with Trap Katz starting at 6:30PM!
URL:https://theoar.com/event/remedy-band/
END:VEVENT
BEGIN:VEVENT
DTSTART;TZID=UTC:20250829T183000
DTEND;TZID=UTC:20250829T223000
DTSTAMP:20260421T154434
CREATED:20250721T163653Z
LAST-MODIFIED:20250723T150258Z
UID:10000499-1756492200-1756506600@theoar.com
SUMMARY:Naked Truth Band
DESCRIPTION:Get down to The Oar for Friday night with Naked Truth Band! Music begins at 6:30PM
URL:https://theoar.com/event/naked-truth-band-3/
END:VEVENT
BEGIN:VEVENT
DTSTART;TZID=UTC:20250828T180000
DTEND;TZID=UTC:20250828T220000
DTSTAMP:20260421T154434
CREATED:20250721T163540Z
LAST-MODIFIED:20250723T150314Z
UID:10000498-1756404000-1756418400@theoar.com
SUMMARY:Valerie Rose
DESCRIPTION:We’re getting the weekend started early with the sweet sounds of Valerie Rose! Music begins at 6PM
URL:https://theoar.com/event/valerie-rose-2/
END:VEVENT
BEGIN:VEVENT
DTSTART;TZID=UTC:20250824T160000
DTEND;TZID=UTC:20250824T200000
DTSTAMP:20260421T154434
CREATED:20250721T163429Z
LAST-MODIFIED:20250723T150345Z
UID:10000497-1756051200-1756065600@theoar.com
SUMMARY:Michael Friedell Trio
DESCRIPTION:Sunday Funday is better with Michael Friedell Trio! Music begins at 4PM
URL:https://theoar.com/event/michael-friedell-trio-2/
END:VEVENT
BEGIN:VEVENT
DTSTART;TZID=UTC:20250823T183000
DTEND;TZID=UTC:20250823T223000
DTSTAMP:20260421T154434
CREATED:20250721T163319Z
LAST-MODIFIED:20250723T150439Z
UID:10000496-1755973800-1755988200@theoar.com
SUMMARY:SlingShot
DESCRIPTION:SlingShot is hitting the stage at The Oar at 6:30PM – Don’t be late!
URL:https://theoar.com/event/slingshot-3/
END:VEVENT
BEGIN:VEVENT
DTSTART;TZID=UTC:20250822T183000
DTEND;TZID=UTC:20250822T223000
DTSTAMP:20260421T154434
CREATED:20250721T163212Z
LAST-MODIFIED:20250723T150452Z
UID:10000495-1755887400-1755901800@theoar.com
SUMMARY:Urban Acoustic
DESCRIPTION:Lasso up your crew for a night of live music with Urban Acoustic at The Oar! The fun starts at 6:30PM
URL:https://theoar.com/event/urban-acoustic-3/
END:VEVENT
BEGIN:VEVENT
DTSTART;TZID=UTC:20250821T180000
DTEND;TZID=UTC:20250821T220000
DTSTAMP:20260421T154434
CREATED:20250721T163059Z
LAST-MODIFIED:20250723T150509Z
UID:10000494-1755799200-1755813600@theoar.com
SUMMARY:Vin & PJ Duo
DESCRIPTION:Thursday nights are better when you’re enjoying Vin & PJ Duo at The Oar! Music starts at 6PM
URL:https://theoar.com/event/vin-pj-duo-2/
END:VEVENT
BEGIN:VEVENT
DTSTART;TZID=UTC:20250817T160000
DTEND;TZID=UTC:20250817T200000
DTSTAMP:20260421T154434
CREATED:20250721T162957Z
LAST-MODIFIED:20250723T150531Z
UID:10000493-1755446400-1755460800@theoar.com
SUMMARY:All Inn Band
DESCRIPTION:Don’t let the weekend end without stopping by The Oar for music with All Inn Band at 4PM!
URL:https://theoar.com/event/all-inn-band-2/
END:VEVENT
BEGIN:VEVENT
DTSTART;TZID=UTC:20250816T183000
DTEND;TZID=UTC:20250816T223000
DTSTAMP:20260421T154434
CREATED:20250721T162849Z
LAST-MODIFIED:20250723T150547Z
UID:10000492-1755369000-1755383400@theoar.com
SUMMARY:Live Vinyl
DESCRIPTION:Spend your Saturday night enjoying your favorite tunes with Live Vinyl! Music begins at 6:30PM
URL:https://theoar.com/event/live-vinyl/
END:VEVENT
BEGIN:VEVENT
DTSTART;TZID=UTC:20250815T183000
DTEND;TZID=UTC:20250815T223000
DTSTAMP:20260421T154434
CREATED:20250721T162745Z
LAST-MODIFIED:20250723T150601Z
UID:10000491-1755282600-1755297000@theoar.com
SUMMARY:NiteWork
DESCRIPTION:Rock out with NiteWork at The Oar for your Friday night! Music starts at 6:30PM
URL:https://theoar.com/event/nitework/
END:VEVENT
BEGIN:VEVENT
DTSTART;TZID=UTC:20250814T180000
DTEND;TZID=UTC:20250814T220000
DTSTAMP:20260421T154434
CREATED:20250721T162632Z
LAST-MODIFIED:20250723T150615Z
UID:10000490-1755194400-1755208800@theoar.com
SUMMARY:Blend Duo
DESCRIPTION:Get the weekend started a little bit early by enjoying live music with Blend Duo at 6PM!
URL:https://theoar.com/event/blend-duo/
END:VEVENT
BEGIN:VEVENT
DTSTART;TZID=UTC:20250810T160000
DTEND;TZID=UTC:20250810T200000
DTSTAMP:20260421T154434
CREATED:20250721T162443Z
LAST-MODIFIED:20250723T150633Z
UID:10000489-1754841600-1754856000@theoar.com
SUMMARY:Lis Beth Roman Band
DESCRIPTION:End the weekend off enjoying the sweet sounds of Lis Beth Roman Band! Music begins at 4PM
URL:https://theoar.com/event/lis-beth-roman-band/
END:VEVENT
BEGIN:VEVENT
DTSTART;TZID=UTC:20250809T183000
DTEND;TZID=UTC:20250809T223000
DTSTAMP:20260421T154434
CREATED:20250721T162337Z
LAST-MODIFIED:20250723T150651Z
UID:10000488-1754764200-1754778600@theoar.com
SUMMARY:Mac Attack
DESCRIPTION:Mac Attack is hitting our stage at 6:30PM! Don’t be late!
URL:https://theoar.com/event/mac-attack-3/
END:VEVENT
END:VCALENDAR