BEGIN:VCALENDAR
VERSION:2.0
PRODID:-//The Oar Seafood Grille - ECPv6.15.20//NONSGML v1.0//EN
CALSCALE:GREGORIAN
METHOD:PUBLISH
X-WR-CALNAME:The Oar Seafood Grille
X-ORIGINAL-URL:https://theoar.com
X-WR-CALDESC:Events for The Oar Seafood Grille
REFRESH-INTERVAL;VALUE=DURATION:PT1H
X-Robots-Tag:noindex
X-PUBLISHED-TTL:PT1H
BEGIN:VTIMEZONE
TZID:UTC
BEGIN:STANDARD
TZOFFSETFROM:+0000
TZOFFSETTO:+0000
TZNAME:UTC
DTSTART:20240101T000000
END:STANDARD
END:VTIMEZONE
BEGIN:VEVENT
DTSTART;TZID=UTC:20250817T160000
DTEND;TZID=UTC:20250817T200000
DTSTAMP:20260421T191259
CREATED:20250721T162957Z
LAST-MODIFIED:20250723T150531Z
UID:10000493-1755446400-1755460800@theoar.com
SUMMARY:All Inn Band
DESCRIPTION:Don’t let the weekend end without stopping by The Oar for music with All Inn Band at 4PM!
URL:https://theoar.com/event/all-inn-band-2/
END:VEVENT
BEGIN:VEVENT
DTSTART;TZID=UTC:20250816T183000
DTEND;TZID=UTC:20250816T223000
DTSTAMP:20260421T191259
CREATED:20250721T162849Z
LAST-MODIFIED:20250723T150547Z
UID:10000492-1755369000-1755383400@theoar.com
SUMMARY:Live Vinyl
DESCRIPTION:Spend your Saturday night enjoying your favorite tunes with Live Vinyl! Music begins at 6:30PM
URL:https://theoar.com/event/live-vinyl/
END:VEVENT
BEGIN:VEVENT
DTSTART;TZID=UTC:20250815T183000
DTEND;TZID=UTC:20250815T223000
DTSTAMP:20260421T191259
CREATED:20250721T162745Z
LAST-MODIFIED:20250723T150601Z
UID:10000491-1755282600-1755297000@theoar.com
SUMMARY:NiteWork
DESCRIPTION:Rock out with NiteWork at The Oar for your Friday night! Music starts at 6:30PM
URL:https://theoar.com/event/nitework/
END:VEVENT
BEGIN:VEVENT
DTSTART;TZID=UTC:20250814T180000
DTEND;TZID=UTC:20250814T220000
DTSTAMP:20260421T191259
CREATED:20250721T162632Z
LAST-MODIFIED:20250723T150615Z
UID:10000490-1755194400-1755208800@theoar.com
SUMMARY:Blend Duo
DESCRIPTION:Get the weekend started a little bit early by enjoying live music with Blend Duo at 6PM!
URL:https://theoar.com/event/blend-duo/
END:VEVENT
BEGIN:VEVENT
DTSTART;TZID=UTC:20250810T160000
DTEND;TZID=UTC:20250810T200000
DTSTAMP:20260421T191259
CREATED:20250721T162443Z
LAST-MODIFIED:20250723T150633Z
UID:10000489-1754841600-1754856000@theoar.com
SUMMARY:Lis Beth Roman Band
DESCRIPTION:End the weekend off enjoying the sweet sounds of Lis Beth Roman Band! Music begins at 4PM
URL:https://theoar.com/event/lis-beth-roman-band/
END:VEVENT
BEGIN:VEVENT
DTSTART;TZID=UTC:20250809T183000
DTEND;TZID=UTC:20250809T223000
DTSTAMP:20260421T191259
CREATED:20250721T162337Z
LAST-MODIFIED:20250723T150651Z
UID:10000488-1754764200-1754778600@theoar.com
SUMMARY:Mac Attack
DESCRIPTION:Mac Attack is hitting our stage at 6:30PM! Don’t be late!
URL:https://theoar.com/event/mac-attack-3/
END:VEVENT
BEGIN:VEVENT
DTSTART;TZID=UTC:20250808T183000
DTEND;TZID=UTC:20250808T223000
DTSTAMP:20260421T191259
CREATED:20250721T162154Z
LAST-MODIFIED:20250723T150720Z
UID:10000487-1754677800-1754692200@theoar.com
SUMMARY:Legendary Murphys
DESCRIPTION:Kickstart the weekend jammin’ out with Legendary Murphys at The Oar! Music begins at 6:30PM
URL:https://theoar.com/event/legendary-murphys/
END:VEVENT
BEGIN:VEVENT
DTSTART;TZID=UTC:20250807T180000
DTEND;TZID=UTC:20250807T220000
DTSTAMP:20260421T191259
CREATED:20250721T162049Z
LAST-MODIFIED:20250723T150734Z
UID:10000486-1754589600-1754604000@theoar.com
SUMMARY:Gissel Garcia
DESCRIPTION:Catch Gissel Garcia performing live with us by the gazebo bar at 6PM!
URL:https://theoar.com/event/gissel-garcia/
END:VEVENT
BEGIN:VEVENT
DTSTART;TZID=UTC:20250803T160000
DTEND;TZID=UTC:20250803T200000
DTSTAMP:20260421T191259
CREATED:20250721T161934Z
LAST-MODIFIED:20250723T150809Z
UID:10000485-1754236800-1754251200@theoar.com
SUMMARY:The Blend
DESCRIPTION:Enjoy Sunday Funday accompanied by The Blend performing live at 4PM!
URL:https://theoar.com/event/the-blend/
END:VEVENT
BEGIN:VEVENT
DTSTART;TZID=UTC:20250802T183000
DTEND;TZID=UTC:20250802T223000
DTSTAMP:20260421T191259
CREATED:20250721T161823Z
LAST-MODIFIED:20250723T150824Z
UID:10000484-1754159400-1754173800@theoar.com
SUMMARY:Tradewinds
DESCRIPTION:Saturdays are better enjoying live music at The Oar with Tradewinds! Music starts at 6:30PM
URL:https://theoar.com/event/tradewinds/
END:VEVENT
BEGIN:VEVENT
DTSTART;TZID=UTC:20250801T183000
DTEND;TZID=UTC:20250801T223000
DTSTAMP:20260421T191259
CREATED:20250721T161715Z
LAST-MODIFIED:20250723T150838Z
UID:10000483-1754073000-1754087400@theoar.com
SUMMARY:Nichols Road
DESCRIPTION:Get the weekend started with the sounds of Nichols Road out by the gazebo bar! Music begins at 6:30PM
URL:https://theoar.com/event/nichols-road/
END:VEVENT
BEGIN:VEVENT
DTSTART;TZID=UTC:20250731T180000
DTEND;TZID=UTC:20250731T220000
DTSTAMP:20260421T191259
CREATED:20250707T150443Z
LAST-MODIFIED:20250723T150853Z
UID:10000482-1753984800-1753999200@theoar.com
SUMMARY:Vin & Lin Duo
DESCRIPTION:Enjoy the sounds of Vin & Lin Duo with us at 6PM!
URL:https://theoar.com/event/vin-lin-duo-2/
END:VEVENT
BEGIN:VEVENT
DTSTART;TZID=UTC:20250727T160000
DTEND;TZID=UTC:20250727T200000
DTSTAMP:20260421T191259
CREATED:20250627T193236Z
LAST-MODIFIED:20250723T150950Z
UID:10000477-1753632000-1753646400@theoar.com
SUMMARY:South Shore Local
DESCRIPTION:End the weekend off with South Shore Local bringing the tunes at 4PM!
URL:https://theoar.com/event/south-shore-local/
END:VEVENT
BEGIN:VEVENT
DTSTART;TZID=UTC:20250726T183000
DTEND;TZID=UTC:20250726T223000
DTSTAMP:20260421T191259
CREATED:20250627T193134Z
LAST-MODIFIED:20250723T151016Z
UID:10000476-1753554600-1753569000@theoar.com
SUMMARY:Mac Attack
DESCRIPTION:Catch Mac Attack rockin’ our stage at 6:30PM!
URL:https://theoar.com/event/mac-attack-2/
END:VEVENT
BEGIN:VEVENT
DTSTART;TZID=UTC:20250725T183000
DTEND;TZID=UTC:20250725T223000
DTSTAMP:20260421T191259
CREATED:20250627T193034Z
LAST-MODIFIED:20250723T151041Z
UID:10000475-1753468200-1753482600@theoar.com
SUMMARY:Urban Acoustic
DESCRIPTION:Saddle up for Urban Acoustic performing live at 6:30PM!
URL:https://theoar.com/event/urban-acoustic-2/
END:VEVENT
BEGIN:VEVENT
DTSTART;TZID=UTC:20250724T180000
DTEND;TZID=UTC:20250724T220000
DTSTAMP:20260421T191259
CREATED:20250707T150339Z
LAST-MODIFIED:20250723T151057Z
UID:10000481-1753380000-1753394400@theoar.com
SUMMARY:Lighter Side
DESCRIPTION:There’s nothing better than kickstarting the weekend with Lighter Side! Music begins at 6PM
URL:https://theoar.com/event/lighter-side-3/
END:VEVENT
BEGIN:VEVENT
DTSTART;TZID=UTC:20250720T160000
DTEND;TZID=UTC:20250720T200000
DTSTAMP:20260421T191259
CREATED:20250627T192921Z
LAST-MODIFIED:20250715T180619Z
UID:10000474-1753027200-1753041600@theoar.com
SUMMARY:Legendary Murphys Duo
DESCRIPTION:Catch Legendary Murphys Duo performing live with us at The Oar! Music begins at 4:00PM
URL:https://theoar.com/event/legendary-murphys-duo/
END:VEVENT
BEGIN:VEVENT
DTSTART;TZID=UTC:20250719T183000
DTEND;TZID=UTC:20250719T213000
DTSTAMP:20260421T191259
CREATED:20250627T192816Z
LAST-MODIFIED:20250627T192816Z
UID:10000473-1752949800-1752960600@theoar.com
SUMMARY:Nu Groove
DESCRIPTION:Spend the night dancing away to Nu Groove on the deck! Music starts at 6:30PM
URL:https://theoar.com/event/nu-groove/
END:VEVENT
BEGIN:VEVENT
DTSTART;TZID=UTC:20250718T183000
DTEND;TZID=UTC:20250718T213000
DTSTAMP:20260421T191259
CREATED:20250627T192710Z
LAST-MODIFIED:20250627T192710Z
UID:10000472-1752863400-1752874200@theoar.com
SUMMARY:SlingShot
DESCRIPTION:Get your weekend started off right rockin’ with SlingShot at 6:30PM!
URL:https://theoar.com/event/slingshot-2/
END:VEVENT
BEGIN:VEVENT
DTSTART;TZID=UTC:20250717T180000
DTEND;TZID=UTC:20250717T210000
DTSTAMP:20260421T191259
CREATED:20250707T150208Z
LAST-MODIFIED:20250707T150208Z
UID:10000480-1752775200-1752786000@theoar.com
SUMMARY:Big Revival Trio
DESCRIPTION:Get your weekend started a little bit early with Big Revival Trio performing live out on the dock! Music begins at 6PM
URL:https://theoar.com/event/big-revival-trio/
END:VEVENT
BEGIN:VEVENT
DTSTART;TZID=UTC:20250713T163000
DTEND;TZID=UTC:20250713T193000
DTSTAMP:20260421T191259
CREATED:20250627T192611Z
LAST-MODIFIED:20250627T192611Z
UID:10000471-1752424200-1752435000@theoar.com
SUMMARY:1984 Band
DESCRIPTION:Sunday Funday is better with 1984 Band at The Oar! Music starts at 4:30PM
URL:https://theoar.com/event/1984-band-2/
END:VEVENT
BEGIN:VEVENT
DTSTART;TZID=UTC:20250712T183000
DTEND;TZID=UTC:20250712T213000
DTSTAMP:20260421T191259
CREATED:20250627T192426Z
LAST-MODIFIED:20250627T192426Z
UID:10000470-1752345000-1752355800@theoar.com
SUMMARY:Music Dance Express Band
DESCRIPTION:Saturdays are better enjoying the sounds of Music Dance Express Band on the dock! Music begins at 6:30PM
URL:https://theoar.com/event/music-dance-express-band/
END:VEVENT
BEGIN:VEVENT
DTSTART;TZID=UTC:20250711T183000
DTEND;TZID=UTC:20250711T213000
DTSTAMP:20260421T191259
CREATED:20250627T192302Z
LAST-MODIFIED:20250627T192302Z
UID:10000469-1752258600-1752269400@theoar.com
SUMMARY:Naked Truth
DESCRIPTION:Kickstart the weekend with Naked Truth hitting the stage by the gazebo bar at 6:30PM!
URL:https://theoar.com/event/naked-truth/
END:VEVENT
BEGIN:VEVENT
DTSTART;TZID=UTC:20250710T180000
DTEND;TZID=UTC:20250710T210000
DTSTAMP:20260421T191259
CREATED:20250707T150050Z
LAST-MODIFIED:20250707T150050Z
UID:10000479-1752170400-1752181200@theoar.com
SUMMARY:KBM Trio
DESCRIPTION:Enjoy the sounds of KBM Trio with us out by the gazebo bar at 6PM!
URL:https://theoar.com/event/kbm-trio/
END:VEVENT
BEGIN:VEVENT
DTSTART;TZID=UTC:20250706T163000
DTEND;TZID=UTC:20250706T193000
DTSTAMP:20260421T191259
CREATED:20250627T192159Z
LAST-MODIFIED:20250627T192159Z
UID:10000468-1751819400-1751830200@theoar.com
SUMMARY:Victims of Rock
DESCRIPTION:End the holiday weekend off right with Victims of Rock jammin’ at 4:30PM!
URL:https://theoar.com/event/victims-of-rock/
END:VEVENT
BEGIN:VEVENT
DTSTART;TZID=UTC:20250705T183000
DTEND;TZID=UTC:20250705T213000
DTSTAMP:20260421T191259
CREATED:20250627T192018Z
LAST-MODIFIED:20250627T192018Z
UID:10000467-1751740200-1751751000@theoar.com
SUMMARY:Justice Rock
DESCRIPTION:Keep the holiday weekend vibes going with Justice Rock at 6:30PM bringing the jams to the deck!
URL:https://theoar.com/event/justice-rock/
END:VEVENT
BEGIN:VEVENT
DTSTART;TZID=UTC:20250704T183000
DTEND;TZID=UTC:20250704T213000
DTSTAMP:20260421T191259
CREATED:20250627T191856Z
LAST-MODIFIED:20250627T191856Z
UID:10000466-1751653800-1751664600@theoar.com
SUMMARY:Vocomotive Band
DESCRIPTION:Celebrate 4th of July at The Oar with Vocomotive Band on stage at 6:30PM!
URL:https://theoar.com/event/vocomotive-band/
END:VEVENT
BEGIN:VEVENT
DTSTART;TZID=UTC:20250703T183000
DTEND;TZID=UTC:20250703T213000
DTSTAMP:20260421T191259
CREATED:20250703T172650Z
LAST-MODIFIED:20250703T172650Z
UID:10000478-1751567400-1751578200@theoar.com
SUMMARY:KJ Acoustic
DESCRIPTION:Let’s kick off 4th of July weekend with KJ Acoustic at The Oar! Music begins at 6:30PM!
URL:https://theoar.com/event/kj-acoustic-2/
END:VEVENT
BEGIN:VEVENT
DTSTART;TZID=UTC:20250629T163000
DTEND;TZID=UTC:20250629T193000
DTSTAMP:20260421T191259
CREATED:20250530T153002Z
LAST-MODIFIED:20250530T153002Z
UID:10000463-1751214600-1751225400@theoar.com
SUMMARY:Gen X Band
DESCRIPTION:Jam out with Gen X Band on the deck at 4:30PM!
URL:https://theoar.com/event/gen-x-band/
END:VEVENT
BEGIN:VEVENT
DTSTART;TZID=UTC:20250628T183000
DTEND;TZID=UTC:20250628T213000
DTSTAMP:20260421T191259
CREATED:20250530T152853Z
LAST-MODIFIED:20250530T152853Z
UID:10000462-1751135400-1751146200@theoar.com
SUMMARY:Urban Acoustic
DESCRIPTION:Saddle up for Urban Acoustic at The Oar – Music begins at 6:30PM!
URL:https://theoar.com/event/urban-acoustic/
END:VEVENT
END:VCALENDAR