BEGIN:VCALENDAR
VERSION:2.0
PRODID:-//The Oar Seafood Grille - ECPv6.15.20//NONSGML v1.0//EN
CALSCALE:GREGORIAN
METHOD:PUBLISH
X-WR-CALNAME:The Oar Seafood Grille
X-ORIGINAL-URL:https://theoar.com
X-WR-CALDESC:Events for The Oar Seafood Grille
REFRESH-INTERVAL;VALUE=DURATION:PT1H
X-Robots-Tag:noindex
X-PUBLISHED-TTL:PT1H
BEGIN:VTIMEZONE
TZID:UTC
BEGIN:STANDARD
TZOFFSETFROM:+0000
TZOFFSETTO:+0000
TZNAME:UTC
DTSTART:20250101T000000
END:STANDARD
END:VTIMEZONE
BEGIN:VEVENT
DTSTART;TZID=UTC:20260110T183000
DTEND;TZID=UTC:20260110T220000
DTSTAMP:20260421T214456
CREATED:20260105T163057Z
LAST-MODIFIED:20260105T163057Z
UID:10000540-1768069800-1768082400@theoar.com
SUMMARY:Matt Bruno
DESCRIPTION:Dinner\, drinks\, and live music by Matt Bruno—your Saturday plans are covered. Sit back\, relax\, and enjoy a great night at The Oar.
URL:https://theoar.com/event/matt-bruno-6/
ATTACH;FMTTYPE=image/png:https://theoar.com/wp-content/uploads/2026/01/jan10-eventcover.png
END:VEVENT
BEGIN:VEVENT
DTSTART;TZID=UTC:20260116T183000
DTEND;TZID=UTC:20260116T220000
DTSTAMP:20260421T214456
CREATED:20260105T163231Z
LAST-MODIFIED:20260113T145452Z
UID:10000541-1768588200-1768600800@theoar.com
SUMMARY:Dean Silva
DESCRIPTION:Start your weekend with smooth acoustic sounds from Dean Silva\, plus all your Oar favorites from the kitchen and bar.
URL:https://theoar.com/event/joe-gentile-urban-acoustic/
ATTACH;FMTTYPE=image/png:https://theoar.com/wp-content/uploads/2026/01/jan16-eventcover-1.png
END:VEVENT
BEGIN:VEVENT
DTSTART;TZID=UTC:20260117T183000
DTEND;TZID=UTC:20260117T220000
DTSTAMP:20260421T214456
CREATED:20260105T163332Z
LAST-MODIFIED:20260113T145548Z
UID:10000542-1768674600-1768687200@theoar.com
SUMMARY:Van Wyen
DESCRIPTION:Live music by Van Wyen sets the tone for a perfect Saturday night. Join us for great food\, drinks\, and an unbeatable atmosphere.
URL:https://theoar.com/event/ed-travers-2/
ATTACH;FMTTYPE=image/png:https://theoar.com/wp-content/uploads/2026/01/jan17-eventcover-1.png
END:VEVENT
BEGIN:VEVENT
DTSTART;TZID=UTC:20260123T183000
DTEND;TZID=UTC:20260123T220000
DTSTAMP:20260421T214456
CREATED:20260105T163446Z
LAST-MODIFIED:20260105T163446Z
UID:10000543-1769193000-1769205600@theoar.com
SUMMARY:Stix & Soul Duo
DESCRIPTION:Feel the rhythm with live music by Stix & Soul Duo while enjoying dinner\, cocktails\, and waterfront dining at its best.
URL:https://theoar.com/event/stix-soul-duo/
ATTACH;FMTTYPE=image/png:https://theoar.com/wp-content/uploads/2026/01/jan23-eventcover.png
END:VEVENT
BEGIN:VEVENT
DTSTART;TZID=UTC:20260124T183000
DTEND;TZID=UTC:20260124T220000
DTSTAMP:20260421T214456
CREATED:20260105T163632Z
LAST-MODIFIED:20260105T163632Z
UID:10000544-1769279400-1769292000@theoar.com
SUMMARY:Jimmy Shaka
DESCRIPTION:Saturday nights are better with Jimmy Shaka live at The Oar! Grab a table\, sip something delicious\, and enjoy the music.
URL:https://theoar.com/event/jimmy-shaka-4/
ATTACH;FMTTYPE=image/png:https://theoar.com/wp-content/uploads/2026/01/jan24-eventcover.png
END:VEVENT
BEGIN:VEVENT
DTSTART;TZID=UTC:20260125T120000
DTEND;TZID=UTC:20260125T210000
DTSTAMP:20260421T214456
CREATED:20260112T192117Z
LAST-MODIFIED:20260128T190519Z
UID:10000547-1769342400-1769374800@theoar.com
SUMMARY:Winter Long Island Restaurant Week
DESCRIPTION:Join us at The Oar Steak & Seafood Grille for Long Island Restaurant Week\, running January 25th through February 1st! \nEnjoy a three-course prix fixe menu for $46 per person (plus tax)\, featuring guest-favorite dishes and seasonal specialties — all crafted to showcase the best of our steak and seafood offerings. \n✨ Event Details:📅 January 25 – February 1🚫 Closed on Mondays🍽️ Three-Course Prix Fixe | $46 per person\nView Our LIRW Menu Here\n📞 Reservations encouraged: (631) 654-8266 \nWhether you’re planning date night\, a night out with friends\, or just an excuse to dine well\, Restaurant Week at The Oar is not to be missed. 🌊🥂 \n👉 Call now to reserve your table!
URL:https://theoar.com/event/winter-long-island-restaurant-week/2026-01-25/
ATTACH;FMTTYPE=image/png:https://theoar.com/wp-content/uploads/2026/01/26winter_Lirw_insta_1920x1080.png
END:VEVENT
BEGIN:VEVENT
DTSTART;TZID=UTC:20260126T120000
DTEND;TZID=UTC:20260126T210000
DTSTAMP:20260421T214456
CREATED:20260112T192117Z
LAST-MODIFIED:20260128T190519Z
UID:10000548-1769428800-1769461200@theoar.com
SUMMARY:Winter Long Island Restaurant Week
DESCRIPTION:Join us at The Oar Steak & Seafood Grille for Long Island Restaurant Week\, running January 25th through February 1st! \nEnjoy a three-course prix fixe menu for $46 per person (plus tax)\, featuring guest-favorite dishes and seasonal specialties — all crafted to showcase the best of our steak and seafood offerings. \n✨ Event Details:📅 January 25 – February 1🚫 Closed on Mondays🍽️ Three-Course Prix Fixe | $46 per person\nView Our LIRW Menu Here\n📞 Reservations encouraged: (631) 654-8266 \nWhether you’re planning date night\, a night out with friends\, or just an excuse to dine well\, Restaurant Week at The Oar is not to be missed. 🌊🥂 \n👉 Call now to reserve your table!
URL:https://theoar.com/event/winter-long-island-restaurant-week/2026-01-26/
ATTACH;FMTTYPE=image/png:https://theoar.com/wp-content/uploads/2026/01/26winter_Lirw_insta_1920x1080.png
END:VEVENT
BEGIN:VEVENT
DTSTART;TZID=UTC:20260127T120000
DTEND;TZID=UTC:20260127T210000
DTSTAMP:20260421T214456
CREATED:20260112T192117Z
LAST-MODIFIED:20260128T190519Z
UID:10000549-1769515200-1769547600@theoar.com
SUMMARY:Winter Long Island Restaurant Week
DESCRIPTION:Join us at The Oar Steak & Seafood Grille for Long Island Restaurant Week\, running January 25th through February 1st! \nEnjoy a three-course prix fixe menu for $46 per person (plus tax)\, featuring guest-favorite dishes and seasonal specialties — all crafted to showcase the best of our steak and seafood offerings. \n✨ Event Details:📅 January 25 – February 1🚫 Closed on Mondays🍽️ Three-Course Prix Fixe | $46 per person\nView Our LIRW Menu Here\n📞 Reservations encouraged: (631) 654-8266 \nWhether you’re planning date night\, a night out with friends\, or just an excuse to dine well\, Restaurant Week at The Oar is not to be missed. 🌊🥂 \n👉 Call now to reserve your table!
URL:https://theoar.com/event/winter-long-island-restaurant-week/2026-01-27/
ATTACH;FMTTYPE=image/png:https://theoar.com/wp-content/uploads/2026/01/26winter_Lirw_insta_1920x1080.png
END:VEVENT
BEGIN:VEVENT
DTSTART;TZID=UTC:20260128T120000
DTEND;TZID=UTC:20260128T210000
DTSTAMP:20260421T214456
CREATED:20260112T192117Z
LAST-MODIFIED:20260128T190519Z
UID:10000550-1769601600-1769634000@theoar.com
SUMMARY:Winter Long Island Restaurant Week
DESCRIPTION:Join us at The Oar Steak & Seafood Grille for Long Island Restaurant Week\, running January 25th through February 1st! \nEnjoy a three-course prix fixe menu for $46 per person (plus tax)\, featuring guest-favorite dishes and seasonal specialties — all crafted to showcase the best of our steak and seafood offerings. \n✨ Event Details:📅 January 25 – February 1🚫 Closed on Mondays🍽️ Three-Course Prix Fixe | $46 per person\nView Our LIRW Menu Here\n📞 Reservations encouraged: (631) 654-8266 \nWhether you’re planning date night\, a night out with friends\, or just an excuse to dine well\, Restaurant Week at The Oar is not to be missed. 🌊🥂 \n👉 Call now to reserve your table!
URL:https://theoar.com/event/winter-long-island-restaurant-week/2026-01-28/
ATTACH;FMTTYPE=image/png:https://theoar.com/wp-content/uploads/2026/01/26winter_Lirw_insta_1920x1080.png
END:VEVENT
BEGIN:VEVENT
DTSTART;TZID=UTC:20260129T120000
DTEND;TZID=UTC:20260129T210000
DTSTAMP:20260421T214456
CREATED:20260112T192117Z
LAST-MODIFIED:20260128T190519Z
UID:10000551-1769688000-1769720400@theoar.com
SUMMARY:Winter Long Island Restaurant Week
DESCRIPTION:Join us at The Oar Steak & Seafood Grille for Long Island Restaurant Week\, running January 25th through February 1st! \nEnjoy a three-course prix fixe menu for $46 per person (plus tax)\, featuring guest-favorite dishes and seasonal specialties — all crafted to showcase the best of our steak and seafood offerings. \n✨ Event Details:📅 January 25 – February 1🚫 Closed on Mondays🍽️ Three-Course Prix Fixe | $46 per person\nView Our LIRW Menu Here\n📞 Reservations encouraged: (631) 654-8266 \nWhether you’re planning date night\, a night out with friends\, or just an excuse to dine well\, Restaurant Week at The Oar is not to be missed. 🌊🥂 \n👉 Call now to reserve your table!
URL:https://theoar.com/event/winter-long-island-restaurant-week/2026-01-29/
ATTACH;FMTTYPE=image/png:https://theoar.com/wp-content/uploads/2026/01/26winter_Lirw_insta_1920x1080.png
END:VEVENT
BEGIN:VEVENT
DTSTART;TZID=UTC:20260130T120000
DTEND;TZID=UTC:20260130T210000
DTSTAMP:20260421T214456
CREATED:20260112T192117Z
LAST-MODIFIED:20260128T190519Z
UID:10000552-1769774400-1769806800@theoar.com
SUMMARY:Winter Long Island Restaurant Week
DESCRIPTION:Join us at The Oar Steak & Seafood Grille for Long Island Restaurant Week\, running January 25th through February 1st! \nEnjoy a three-course prix fixe menu for $46 per person (plus tax)\, featuring guest-favorite dishes and seasonal specialties — all crafted to showcase the best of our steak and seafood offerings. \n✨ Event Details:📅 January 25 – February 1🚫 Closed on Mondays🍽️ Three-Course Prix Fixe | $46 per person\nView Our LIRW Menu Here\n📞 Reservations encouraged: (631) 654-8266 \nWhether you’re planning date night\, a night out with friends\, or just an excuse to dine well\, Restaurant Week at The Oar is not to be missed. 🌊🥂 \n👉 Call now to reserve your table!
URL:https://theoar.com/event/winter-long-island-restaurant-week/2026-01-30/
ATTACH;FMTTYPE=image/png:https://theoar.com/wp-content/uploads/2026/01/26winter_Lirw_insta_1920x1080.png
END:VEVENT
BEGIN:VEVENT
DTSTART;TZID=UTC:20260130T183000
DTEND;TZID=UTC:20260130T220000
DTSTAMP:20260421T214456
CREATED:20260105T163737Z
LAST-MODIFIED:20260105T163737Z
UID:10000545-1769797800-1769810400@theoar.com
SUMMARY:Shawn Rooney & Marcella on the Sax
DESCRIPTION:Live sax\, smooth vocals\, and incredible food—this Friday night is one you won’t want to miss. Join us for an unforgettable evening!
URL:https://theoar.com/event/shawn-rooney-marcella-on-the-sax-7/
ATTACH;FMTTYPE=image/png:https://theoar.com/wp-content/uploads/2026/01/jan30-eventcover.png
END:VEVENT
BEGIN:VEVENT
DTSTART;TZID=UTC:20260131T120000
DTEND;TZID=UTC:20260131T210000
DTSTAMP:20260421T214456
CREATED:20260112T192117Z
LAST-MODIFIED:20260128T190519Z
UID:10000553-1769860800-1769893200@theoar.com
SUMMARY:Winter Long Island Restaurant Week
DESCRIPTION:Join us at The Oar Steak & Seafood Grille for Long Island Restaurant Week\, running January 25th through February 1st! \nEnjoy a three-course prix fixe menu for $46 per person (plus tax)\, featuring guest-favorite dishes and seasonal specialties — all crafted to showcase the best of our steak and seafood offerings. \n✨ Event Details:📅 January 25 – February 1🚫 Closed on Mondays🍽️ Three-Course Prix Fixe | $46 per person\nView Our LIRW Menu Here\n📞 Reservations encouraged: (631) 654-8266 \nWhether you’re planning date night\, a night out with friends\, or just an excuse to dine well\, Restaurant Week at The Oar is not to be missed. 🌊🥂 \n👉 Call now to reserve your table!
URL:https://theoar.com/event/winter-long-island-restaurant-week/2026-01-31/
ATTACH;FMTTYPE=image/png:https://theoar.com/wp-content/uploads/2026/01/26winter_Lirw_insta_1920x1080.png
END:VEVENT
BEGIN:VEVENT
DTSTART;TZID=UTC:20260131T183000
DTEND;TZID=UTC:20260131T220000
DTSTAMP:20260421T214456
CREATED:20260105T163847Z
LAST-MODIFIED:20260105T163847Z
UID:10000546-1769884200-1769896800@theoar.com
SUMMARY:Radiophonics
DESCRIPTION:Wrap up the month with live music by Radiophonics\, plus great eats\, drinks\, and waterfront vibes. Saturday night plans = handled.
URL:https://theoar.com/event/radiophonics/
ATTACH;FMTTYPE=image/png:https://theoar.com/wp-content/uploads/2026/01/jan31-eventcover.png
END:VEVENT
BEGIN:VEVENT
DTSTART;TZID=UTC:20260201T120000
DTEND;TZID=UTC:20260201T210000
DTSTAMP:20260421T214456
CREATED:20260112T192117Z
LAST-MODIFIED:20260128T190519Z
UID:10000554-1769947200-1769979600@theoar.com
SUMMARY:Winter Long Island Restaurant Week
DESCRIPTION:Join us at The Oar Steak & Seafood Grille for Long Island Restaurant Week\, running January 25th through February 1st! \nEnjoy a three-course prix fixe menu for $46 per person (plus tax)\, featuring guest-favorite dishes and seasonal specialties — all crafted to showcase the best of our steak and seafood offerings. \n✨ Event Details:📅 January 25 – February 1🚫 Closed on Mondays🍽️ Three-Course Prix Fixe | $46 per person\nView Our LIRW Menu Here\n📞 Reservations encouraged: (631) 654-8266 \nWhether you’re planning date night\, a night out with friends\, or just an excuse to dine well\, Restaurant Week at The Oar is not to be missed. 🌊🥂 \n👉 Call now to reserve your table!
URL:https://theoar.com/event/winter-long-island-restaurant-week/2026-02-01/
ATTACH;FMTTYPE=image/png:https://theoar.com/wp-content/uploads/2026/01/26winter_Lirw_insta_1920x1080.png
END:VEVENT
BEGIN:VEVENT
DTSTART;TZID=UTC:20260206T183000
DTEND;TZID=UTC:20260206T223000
DTSTAMP:20260421T214456
CREATED:20260203T145936Z
LAST-MODIFIED:20260203T145936Z
UID:10000920-1770402600-1770417000@theoar.com
SUMMARY:KJ Acoustics
DESCRIPTION:Kick off the weekend with live acoustic vibes by KJ Acoustics starting at 6:30PM. Enjoy great music\, waterfront dining\, and your favorite cocktails all night long.
URL:https://theoar.com/event/kj-acoustics/
ATTACH;FMTTYPE=image/png:https://theoar.com/wp-content/uploads/2026/02/feb2026-eventcover_feb6.png
END:VEVENT
BEGIN:VEVENT
DTSTART;TZID=UTC:20260207T183000
DTEND;TZID=UTC:20260207T223000
DTSTAMP:20260421T214456
CREATED:20260203T150123Z
LAST-MODIFIED:20260203T150123Z
UID:10000921-1770489000-1770503400@theoar.com
SUMMARY:Michael Duca
DESCRIPTION:Michael Duca takes the stage at 6:30PM for an evening of live music\, great food\, and waterfront atmosphere. The perfect soundtrack to your Saturday night.
URL:https://theoar.com/event/michael-duca/
ATTACH;FMTTYPE=image/png:https://theoar.com/wp-content/uploads/2026/02/feb2026-eventcover_feb7.png
END:VEVENT
BEGIN:VEVENT
DTSTART;TZID=UTC:20260213T183000
DTEND;TZID=UTC:20260213T223000
DTSTAMP:20260421T214456
CREATED:20260203T150207Z
LAST-MODIFIED:20260203T150207Z
UID:10000922-1771007400-1771021800@theoar.com
SUMMARY:Joe Gentile
DESCRIPTION:Join us for live music by Joe Gentile starting at 6:30PM. Pair the tunes with dinner\, drinks\, and stunning riverfront views.
URL:https://theoar.com/event/joe-gentile/
ATTACH;FMTTYPE=image/png:https://theoar.com/wp-content/uploads/2026/02/feb2026-eventcover_feb13.png
END:VEVENT
BEGIN:VEVENT
DTSTART;TZID=UTC:20260214T150000
DTEND;TZID=UTC:20260214T220000
DTSTAMP:20260421T214456
CREATED:20260209T160415Z
LAST-MODIFIED:20260209T160415Z
UID:10000928-1771081200-1771106400@theoar.com
SUMMARY:Valentine's Day
DESCRIPTION:💘✨ Make it a night to remember at The Oar ✨💘 \nBook your Valentine’s Day dinner with us and enjoy a romantic evening featuring a special à la carte menu and a complimentary champagne cocktail for couples 🥂 \nView Our Special Menu Here \nReservations are filling fast — call or book online today 💕
URL:https://theoar.com/event/valentines-day-2/
ATTACH;FMTTYPE=image/jpeg:https://theoar.com/wp-content/uploads/2026/02/2026-valentinesday_insta_1920x1080.jpg
END:VEVENT
BEGIN:VEVENT
DTSTART;TZID=UTC:20260214T183000
DTEND;TZID=UTC:20260214T223000
DTSTAMP:20260421T214456
CREATED:20260203T150252Z
LAST-MODIFIED:20260203T150252Z
UID:10000923-1771093800-1771108200@theoar.com
SUMMARY:Danny Kean
DESCRIPTION:Celebrate Saturday night with live music by Danny Kean beginning at 6:30PM. Great vibes\, delicious cuisine\, and cocktails await.
URL:https://theoar.com/event/danny-kean-3/
ATTACH;FMTTYPE=image/png:https://theoar.com/wp-content/uploads/2026/02/feb2026-eventcover_feb14.png
END:VEVENT
BEGIN:VEVENT
DTSTART;TZID=UTC:20260215T113000
DTEND;TZID=UTC:20260215T140000
DTSTAMP:20260421T214456
CREATED:20260209T162350Z
LAST-MODIFIED:20260209T162350Z
UID:10000929-1771155000-1771164000@theoar.com
SUMMARY:Sweetheart Brunch
DESCRIPTION:Celebrate the most lovely day of the year with a romantic Sweetheart Brunch at The Oar! \nJoin us on Sunday\, February 15th from 11:30AM–2PM for a cozy\, love-filled brunch featuring exclusive Valentine’s brunch menu items you won’t find any other day of the year. 🥂🍓 \nView Brunch Menu Here \nWhether you’re celebrating with your sweetheart\, friends\, or family\, it’s the perfect way to keep the Valentine’s vibes going. And don’t forget — ask your server about a special treat for the ladies 💕 \nReservations recommended. We can’t wait to brunch with you!
URL:https://theoar.com/event/sweetheart-brunch/
ATTACH;FMTTYPE=image/png:https://theoar.com/wp-content/uploads/2026/02/2026-SweetHeart_social_1920x1080.png
END:VEVENT
BEGIN:VEVENT
DTSTART;TZID=UTC:20260220T183000
DTEND;TZID=UTC:20260220T223000
DTSTAMP:20260421T214456
CREATED:20260203T150329Z
LAST-MODIFIED:20260203T150329Z
UID:10000924-1771612200-1771626600@theoar.com
SUMMARY:Vin & Lin Duo
DESCRIPTION:Enjoy an evening of live music with Vin & Lin Duo starting at 6:30PM. Relax\, dine\, and unwind by the water.
URL:https://theoar.com/event/vin-lin-duo-6/
ATTACH;FMTTYPE=image/png:https://theoar.com/wp-content/uploads/2026/02/feb2026-eventcover_feb20.png
END:VEVENT
BEGIN:VEVENT
DTSTART;TZID=UTC:20260221T183000
DTEND;TZID=UTC:20260221T223000
DTSTAMP:20260421T214456
CREATED:20260203T150444Z
LAST-MODIFIED:20260203T150444Z
UID:10000925-1771698600-1771713000@theoar.com
SUMMARY:Jimmy Shaka
DESCRIPTION:Jimmy Shaka brings live music to The Oar at 6:30PM. Join us for a fun night of great tunes\, food\, and drinks.
URL:https://theoar.com/event/jimmy-shaka-5/
ATTACH;FMTTYPE=image/png:https://theoar.com/wp-content/uploads/2026/02/feb2026-eventcover_feb21.png
END:VEVENT
BEGIN:VEVENT
DTSTART;TZID=UTC:20260227T183000
DTEND;TZID=UTC:20260227T223000
DTSTAMP:20260421T214456
CREATED:20260203T150529Z
LAST-MODIFIED:20260203T150529Z
UID:10000926-1772217000-1772231400@theoar.com
SUMMARY:Lighter Side
DESCRIPTION:Lighter Side hits the stage at 6:30PM with live music and feel-good vibes. Start your weekend with dinner and drinks by the river.
URL:https://theoar.com/event/lighter-side-4/
ATTACH;FMTTYPE=image/png:https://theoar.com/wp-content/uploads/2026/02/feb2026-eventcover_feb27.png
END:VEVENT
BEGIN:VEVENT
DTSTART;TZID=UTC:20260228T183000
DTEND;TZID=UTC:20260228T223000
DTSTAMP:20260421T214457
CREATED:20260203T150606Z
LAST-MODIFIED:20260203T150606Z
UID:10000927-1772303400-1772317800@theoar.com
SUMMARY:Michael Friedell Duo
DESCRIPTION:Close out February with live music by Michael Friedell Duo starting at 6:30PM. Great music\, great food\, and a waterfront night to remember.
URL:https://theoar.com/event/michael-friedell-duo-3/
ATTACH;FMTTYPE=image/png:https://theoar.com/wp-content/uploads/2026/02/feb2026-eventcover_feb28.png
END:VEVENT
BEGIN:VEVENT
DTSTART;TZID=UTC:20260306T183000
DTEND;TZID=UTC:20260306T223000
DTSTAMP:20260421T214457
CREATED:20260305T170143Z
LAST-MODIFIED:20260305T170143Z
UID:10000931-1772821800-1772836200@theoar.com
SUMMARY:Jimmy Shaka
DESCRIPTION:Kick off the weekend at The Oar with live music by Jimmy Shaka starting at 6:30PM. Enjoy great food\, craft cocktails\, and waterfront vibes while Jimmy brings the perfect soundtrack to your Friday night.
URL:https://theoar.com/event/jimmy-shaka-6/
ATTACH;FMTTYPE=image/png:https://theoar.com/wp-content/uploads/2026/03/march2026-eventcover_march-6.png
END:VEVENT
BEGIN:VEVENT
DTSTART;TZID=UTC:20260307T183000
DTEND;TZID=UTC:20260307T223000
DTSTAMP:20260421T214457
CREATED:20260305T170227Z
LAST-MODIFIED:20260305T170227Z
UID:10000932-1772908200-1772922600@theoar.com
SUMMARY:Matt Bruno
DESCRIPTION:Join us Saturday night for live music by Matt Bruno beginning at 6:30PM. Settle in for a relaxing evening of delicious seafood\, signature cocktails\, and great live entertainment.
URL:https://theoar.com/event/matt-bruno-7/
ATTACH;FMTTYPE=image/png:https://theoar.com/wp-content/uploads/2026/03/march2026-eventcover_march-7.png
END:VEVENT
BEGIN:VEVENT
DTSTART;TZID=UTC:20260313T183000
DTEND;TZID=UTC:20260313T223000
DTSTAMP:20260421T214457
CREATED:20260305T170309Z
LAST-MODIFIED:20260312T155711Z
UID:10000933-1773426600-1773441000@theoar.com
SUMMARY:Lungs & Roses
DESCRIPTION:Start your Friday night with live music by Lungs & Roses at The Oar beginning at 6:30PM. Grab dinner\, sip on your favorite drinks\, and enjoy a laid-back evening of live music.
URL:https://theoar.com/event/kj-acoustic-3/
ATTACH;FMTTYPE=image/png:https://theoar.com/wp-content/uploads/2026/03/march2026-eventcover_march-13-1.png
END:VEVENT
BEGIN:VEVENT
DTSTART;TZID=UTC:20260314T183000
DTEND;TZID=UTC:20260314T223000
DTSTAMP:20260421T214457
CREATED:20260305T170350Z
LAST-MODIFIED:20260305T170350Z
UID:10000934-1773513000-1773527400@theoar.com
SUMMARY:Ed Travers
DESCRIPTION:Spend your Saturday evening at The Oar with Ed Travers performing live starting at 6:30PM. Great music\, incredible food\, and a lively atmosphere make it the perfect night out.
URL:https://theoar.com/event/ed-travers-3/
ATTACH;FMTTYPE=image/png:https://theoar.com/wp-content/uploads/2026/03/march2026-eventcover_march-14.png
END:VEVENT
BEGIN:VEVENT
DTSTART;TZID=UTC:20260320T183000
DTEND;TZID=UTC:20260320T223000
DTSTAMP:20260421T214457
CREATED:20260305T170435Z
LAST-MODIFIED:20260305T170435Z
UID:10000935-1774031400-1774045800@theoar.com
SUMMARY:JD Leonard
DESCRIPTION:Join us Friday night as JD Leonard performs live at The Oar starting at 6:30PM. Come for dinner\, stay for the music\, and enjoy a great night with friends by the water.
URL:https://theoar.com/event/jd-leonard-9/
ATTACH;FMTTYPE=image/png:https://theoar.com/wp-content/uploads/2026/03/march2026-eventcover_march-20.png
END:VEVENT
END:VCALENDAR