BEGIN:VCALENDAR
VERSION:2.0
PRODID:-//The Oar Seafood Grille - ECPv6.15.20//NONSGML v1.0//EN
CALSCALE:GREGORIAN
METHOD:PUBLISH
X-ORIGINAL-URL:https://theoar.com
X-WR-CALDESC:Events for The Oar Seafood Grille
REFRESH-INTERVAL;VALUE=DURATION:PT1H
X-Robots-Tag:noindex
X-PUBLISHED-TTL:PT1H
BEGIN:VTIMEZONE
TZID:UTC
BEGIN:STANDARD
TZOFFSETFROM:+0000
TZOFFSETTO:+0000
TZNAME:UTC
DTSTART:20230101T000000
END:STANDARD
END:VTIMEZONE
BEGIN:VEVENT
DTSTART;TZID=UTC:20241207T183000
DTEND;TZID=UTC:20241207T213000
DTSTAMP:20260423T221205
CREATED:20241203T164315Z
LAST-MODIFIED:20241203T164315Z
UID:10000013-1733596200-1733607000@theoar.com
SUMMARY:Matt Bruno
DESCRIPTION:Spend your Saturday enjoying the sounds of Matt Bruno with us! Music begins at 6:30PM
URL:https://theoar.com/event/matt-bruno/
END:VEVENT
BEGIN:VEVENT
DTSTART;TZID=UTC:20241213T183000
DTEND;TZID=UTC:20241213T213000
DTSTAMP:20260423T221205
CREATED:20241203T164455Z
LAST-MODIFIED:20241203T164455Z
UID:10000014-1734114600-1734125400@theoar.com
SUMMARY:JD Leonard
DESCRIPTION:Stop in for a perfect dinner accompanied by the sounds of JD Leonard! Music begins at 6:30pm
URL:https://theoar.com/event/jd-leonard-2/
END:VEVENT
BEGIN:VEVENT
DTSTART;TZID=UTC:20241214T183000
DTEND;TZID=UTC:20241214T213000
DTSTAMP:20260423T221205
CREATED:20241203T164552Z
LAST-MODIFIED:20241203T164552Z
UID:10000015-1734201000-1734211800@theoar.com
SUMMARY:Dan Donnelly
DESCRIPTION:Catch Dan Donnelly performing live with us at 6:30pm!
URL:https://theoar.com/event/dan-donnelly/
END:VEVENT
BEGIN:VEVENT
DTSTART;TZID=UTC:20241220T183000
DTEND;TZID=UTC:20241220T213000
DTSTAMP:20260423T221205
CREATED:20241203T164725Z
LAST-MODIFIED:20241203T164725Z
UID:10000016-1734719400-1734730200@theoar.com
SUMMARY:Shawn Rooney & Marcella
DESCRIPTION:Enjoy the sounds of Shawn Rooney & Marcella at The Oar! Music starts at 6:30PM
URL:https://theoar.com/event/shawn-rooney-marcella/
END:VEVENT
BEGIN:VEVENT
DTSTART;TZID=UTC:20241221T183000
DTEND;TZID=UTC:20241221T213000
DTSTAMP:20260423T221205
CREATED:20241203T165541Z
LAST-MODIFIED:20241203T165541Z
UID:10000017-1734805800-1734816600@theoar.com
SUMMARY:Michael Friedell Duo
DESCRIPTION:Catch Michael Friedell Duo performing live with us at 6:30PM!
URL:https://theoar.com/event/michael-friedell-duo/
END:VEVENT
END:VCALENDAR