BEGIN:VCALENDAR
VERSION:2.0
PRODID:-//The Oar Seafood Grille - ECPv6.15.20//NONSGML v1.0//EN
CALSCALE:GREGORIAN
METHOD:PUBLISH
X-ORIGINAL-URL:https://theoar.com
X-WR-CALDESC:Events for The Oar Seafood Grille
REFRESH-INTERVAL;VALUE=DURATION:PT1H
X-Robots-Tag:noindex
X-PUBLISHED-TTL:PT1H
BEGIN:VTIMEZONE
TZID:UTC
BEGIN:STANDARD
TZOFFSETFROM:+0000
TZOFFSETTO:+0000
TZNAME:UTC
DTSTART:20240101T000000
END:STANDARD
END:VTIMEZONE
BEGIN:VEVENT
DTSTART;TZID=UTC:20250126T150000
DTEND;TZID=UTC:20250202T200000
DTSTAMP:20260423T190706
CREATED:20250123T202824Z
LAST-MODIFIED:20250123T202824Z
UID:10000023-1737903600-1738526400@theoar.com
SUMMARY:Long Island Restaurant Week
DESCRIPTION:Join us for Winter Long Island Restaurant Week and try our limited time 3-course prix fixe menu for $46 per person from January 26th-February 2nd \n  \nView Menu
URL:https://theoar.com/event/long-island-restaurant-week/
END:VEVENT
BEGIN:VEVENT
DTSTART;TZID=UTC:20250201T183000
DTEND;TZID=UTC:20250201T213000
DTSTAMP:20260423T190706
CREATED:20250127T200703Z
LAST-MODIFIED:20250127T200703Z
UID:10000024-1738434600-1738445400@theoar.com
SUMMARY:Matt Bruno
DESCRIPTION:Enjoy the sounds of Matt Bruno at 6:30PM!
URL:https://theoar.com/event/matt-bruno-2/
END:VEVENT
BEGIN:VEVENT
DTSTART;TZID=UTC:20250207T183000
DTEND;TZID=UTC:20250207T213000
DTSTAMP:20260423T190706
CREATED:20250127T200940Z
LAST-MODIFIED:20250127T200940Z
UID:10000025-1738953000-1738963800@theoar.com
SUMMARY:JD Leonard
DESCRIPTION:Catch JD Leonard performing live with us! Music begins at 6:30PM
URL:https://theoar.com/event/jd-leonard-3/
END:VEVENT
BEGIN:VEVENT
DTSTART;TZID=UTC:20250208T183000
DTEND;TZID=UTC:20250208T213000
DTSTAMP:20260423T190706
CREATED:20250127T201045Z
LAST-MODIFIED:20250127T201045Z
UID:10000026-1739039400-1739050200@theoar.com
SUMMARY:Dan Donnelly
DESCRIPTION:Enjoy live tunes with Dan Donnelly at 6:30PM!
URL:https://theoar.com/event/dan-donnelly-2/
END:VEVENT
BEGIN:VEVENT
DTSTART;TZID=UTC:20250209T120000
DTEND;TZID=UTC:20250209T170000
DTSTAMP:20260423T190706
CREATED:20250204T154643Z
LAST-MODIFIED:20250204T154643Z
UID:10000031-1739102400-1739120400@theoar.com
SUMMARY:Big Game Day
DESCRIPTION:Join us on Super Bowl Sunday to pre-game the Big Game! Come down and enjoy 1/2 priced appetizers and $5 bloody marys – we’ll be closing at 6PM
URL:https://theoar.com/event/big-game-day/
END:VEVENT
BEGIN:VEVENT
DTSTART;VALUE=DATE:20250214
DTEND;VALUE=DATE:20250215
DTSTAMP:20260423T190706
CREATED:20250210T165333Z
LAST-MODIFIED:20250210T165333Z
UID:10000032-1739491200-1739577599@theoar.com
SUMMARY:Valentine's Day
DESCRIPTION:💕 Love is in the air (and on the menu) at The Oar this Valentine’s Day! 💕 \nJoin us on Friday\, February 14th for a romantic evening by the water\, featuring our special à la carte menu and a complimentary champagne cocktail for the perfect toast to love. 🥂✨ \nSecure your spot now—call 631-654-8266 or visit theoar.com to make a reservation. ❤️ \nVIEW SPECIAL MENU
URL:https://theoar.com/event/valentines-day/
END:VEVENT
BEGIN:VEVENT
DTSTART;TZID=UTC:20250214T183000
DTEND;TZID=UTC:20250214T213000
DTSTAMP:20260423T190706
CREATED:20250127T201352Z
LAST-MODIFIED:20250127T201352Z
UID:10000027-1739557800-1739568600@theoar.com
SUMMARY:Jimmy Shaka
DESCRIPTION:Spend Valentine’s Day with Jimmy Shaka – Music starts at 6:30PM
URL:https://theoar.com/event/jimmy-shaka-2/
END:VEVENT
BEGIN:VEVENT
DTSTART;TZID=UTC:20250215T183000
DTEND;TZID=UTC:20250215T213000
DTSTAMP:20260423T190706
CREATED:20250127T201538Z
LAST-MODIFIED:20250127T201538Z
UID:10000028-1739644200-1739655000@theoar.com
SUMMARY:Sonny Vivonetto
DESCRIPTION:Spend your Saturday enjoying the sounds of Sonny Vivonetto at 6:30PM!
URL:https://theoar.com/event/sonny-vivonetto/
END:VEVENT
BEGIN:VEVENT
DTSTART;TZID=UTC:20250221T183000
DTEND;TZID=UTC:20250221T213000
DTSTAMP:20260423T190706
CREATED:20250127T201705Z
LAST-MODIFIED:20250127T201705Z
UID:10000029-1740162600-1740173400@theoar.com
SUMMARY:Con & John Acoustic
DESCRIPTION:Get the weekend started with Con & John Acoustic at 6:30PM!
URL:https://theoar.com/event/con-john-acoustic/
END:VEVENT
BEGIN:VEVENT
DTSTART;TZID=UTC:20250222T183000
DTEND;TZID=UTC:20250222T213000
DTSTAMP:20260423T190706
CREATED:20250127T201824Z
LAST-MODIFIED:20250127T201824Z
UID:10000030-1740249000-1740259800@theoar.com
SUMMARY:Matt Bruno
DESCRIPTION:Catch Matt Bruno performing live at 6:30PM!
URL:https://theoar.com/event/matt-bruno-3/
END:VEVENT
END:VCALENDAR