BEGIN:VCALENDAR
VERSION:2.0
PRODID:-//The Oar Seafood Grille - ECPv6.15.20//NONSGML v1.0//EN
CALSCALE:GREGORIAN
METHOD:PUBLISH
X-ORIGINAL-URL:https://theoar.com
X-WR-CALDESC:Events for The Oar Seafood Grille
REFRESH-INTERVAL;VALUE=DURATION:PT1H
X-Robots-Tag:noindex
X-PUBLISHED-TTL:PT1H
BEGIN:VTIMEZONE
TZID:UTC
BEGIN:STANDARD
TZOFFSETFROM:+0000
TZOFFSETTO:+0000
TZNAME:UTC
DTSTART:20240101T000000
END:STANDARD
END:VTIMEZONE
BEGIN:VEVENT
DTSTART;TZID=UTC:20250502T183000
DTEND;TZID=UTC:20250502T213000
DTSTAMP:20260423T145106
CREATED:20250422T160924Z
LAST-MODIFIED:20250422T160924Z
UID:10000438-1746210600-1746221400@theoar.com
SUMMARY:Shawn Rooney & Marcella on the Sax
DESCRIPTION:Start your weekend off with Shawn Rooney & Marcella on the Sax starting at 6:30PM!
URL:https://theoar.com/event/shawn-rooney-marcella-on-the-sax-3/
END:VEVENT
BEGIN:VEVENT
DTSTART;TZID=UTC:20250503T183000
DTEND;TZID=UTC:20250503T213000
DTSTAMP:20260423T145106
CREATED:20250422T161038Z
LAST-MODIFIED:20250422T161038Z
UID:10000439-1746297000-1746307800@theoar.com
SUMMARY:Ed Travers Solo
DESCRIPTION:Catch Ed Travers Solo performing with at The Oar! Music begins at 6:30PM
URL:https://theoar.com/event/ed-travers-solo/
END:VEVENT
BEGIN:VEVENT
DTSTART;TZID=UTC:20250509T183000
DTEND;TZID=UTC:20250509T213000
DTSTAMP:20260423T145106
CREATED:20250422T161140Z
LAST-MODIFIED:20250422T161140Z
UID:10000440-1746815400-1746826200@theoar.com
SUMMARY:JD Leonard
DESCRIPTION:Enjoy the sounds of JD Leonard with us starting at 6:30PM!
URL:https://theoar.com/event/jd-leonard-5/
END:VEVENT
BEGIN:VEVENT
DTSTART;TZID=UTC:20250510T183000
DTEND;TZID=UTC:20250510T213000
DTSTAMP:20260423T145106
CREATED:20250422T161253Z
LAST-MODIFIED:20250422T161253Z
UID:10000441-1746901800-1746912600@theoar.com
SUMMARY:Tom Maxwell
DESCRIPTION:Tom Maxwell will be performing live with us starting at 6:30PM – Don’t miss it!
URL:https://theoar.com/event/tom-maxwell/
END:VEVENT
BEGIN:VEVENT
DTSTART;TZID=UTC:20250511T100000
DTEND;TZID=UTC:20250511T140000
DTSTAMP:20260423T145106
CREATED:20250421T155750Z
LAST-MODIFIED:20250421T155750Z
UID:10000437-1746957600-1746972000@theoar.com
SUMMARY:Mother's Day Brunch
DESCRIPTION:🌸 Treat Mom to a beautiful day by the water! 🌸Join us for our Mother’s Day Brunch Buffet on Sunday\, May 11th with seatings at 10:00AM & 12:30PM. 🥂Brunch\, unlimited mimosas\, and memories she’ll never forget 💕Reserve your table today! 📞 631-654-8266 \nVIEW BRUNCH MENU
URL:https://theoar.com/event/mothers-day-brunch/
END:VEVENT
BEGIN:VEVENT
DTSTART;TZID=UTC:20250516T183000
DTEND;TZID=UTC:20250516T213000
DTSTAMP:20260423T145106
CREATED:20250422T161419Z
LAST-MODIFIED:20250422T161419Z
UID:10000442-1747420200-1747431000@theoar.com
SUMMARY:Vin & PJ Duo
DESCRIPTION:Enjoy the sounds of Vin & PJ Duo at The Oar! Music begins at 6:30PM
URL:https://theoar.com/event/vin-pj-duo/
END:VEVENT
BEGIN:VEVENT
DTSTART;TZID=UTC:20250517T183000
DTEND;TZID=UTC:20250517T213000
DTSTAMP:20260423T145106
CREATED:20250422T161529Z
LAST-MODIFIED:20250422T161529Z
UID:10000443-1747506600-1747517400@theoar.com
SUMMARY:Lis Beth Roman Solo
DESCRIPTION:Catch Lis Beth Roman Solo bringing the tunes to The Oar starting at 6:30PM!
URL:https://theoar.com/event/lis-beth-roman-solo-2/
END:VEVENT
BEGIN:VEVENT
DTSTART;TZID=UTC:20250523T183000
DTEND;TZID=UTC:20250523T213000
DTSTAMP:20260423T145106
CREATED:20250422T161646Z
LAST-MODIFIED:20250422T161646Z
UID:10000444-1748025000-1748035800@theoar.com
SUMMARY:Naked Truth Band
DESCRIPTION:Jam out with Naked Truth Band beginning at 6:30PM!
URL:https://theoar.com/event/naked-truth-band/
END:VEVENT
BEGIN:VEVENT
DTSTART;TZID=UTC:20250524T183000
DTEND;TZID=UTC:20250524T213000
DTSTAMP:20260423T145106
CREATED:20250422T161751Z
LAST-MODIFIED:20250422T161751Z
UID:10000445-1748111400-1748122200@theoar.com
SUMMARY:VHS Band
DESCRIPTION:VHS Band will be rockin’ the stage at The Oar starting at 6:30PM!
URL:https://theoar.com/event/vhs-band/
END:VEVENT
BEGIN:VEVENT
DTSTART;TZID=UTC:20250525T183000
DTEND;TZID=UTC:20250525T213000
DTSTAMP:20260423T145106
CREATED:20250422T161914Z
LAST-MODIFIED:20250422T161914Z
UID:10000446-1748197800-1748208600@theoar.com
SUMMARY:Mac Attack Band
DESCRIPTION:Spend Memorial Day weekend enjoying the sounds of Mac Attack Band at The Oar! Music starts at 6:30PM
URL:https://theoar.com/event/mac-attack-band/
END:VEVENT
BEGIN:VEVENT
DTSTART;TZID=UTC:20250526T183000
DTEND;TZID=UTC:20250526T213000
DTSTAMP:20260423T145106
CREATED:20250422T162026Z
LAST-MODIFIED:20250422T162026Z
UID:10000447-1748284200-1748295000@theoar.com
SUMMARY:Memorial Day with Tribute Banned
DESCRIPTION:Celebrate Memorial Day with Tribute Banned performing live at The Oar at 6:30PM!
URL:https://theoar.com/event/memorial-day-with-tribute-banned/
END:VEVENT
BEGIN:VEVENT
DTSTART;TZID=UTC:20250530T183000
DTEND;TZID=UTC:20250530T213000
DTSTAMP:20260423T145106
CREATED:20250422T162129Z
LAST-MODIFIED:20250422T162129Z
UID:10000448-1748629800-1748640600@theoar.com
SUMMARY:Panic
DESCRIPTION:Kick off the weekend with Panic performing live at 6:30PM!
URL:https://theoar.com/event/panic/
END:VEVENT
BEGIN:VEVENT
DTSTART;TZID=UTC:20250531T183000
DTEND;TZID=UTC:20250531T213000
DTSTAMP:20260423T145106
CREATED:20250422T162231Z
LAST-MODIFIED:20250422T162231Z
UID:10000449-1748716200-1748727000@theoar.com
SUMMARY:1984 Band
DESCRIPTION:Take a step back in time with 1984 Band performing live at The Oar at 6:30PM!
URL:https://theoar.com/event/1984-band/
END:VEVENT
END:VCALENDAR