BEGIN:VCALENDAR
VERSION:2.0
PRODID:-//The Oar Seafood Grille - ECPv6.15.20//NONSGML v1.0//EN
CALSCALE:GREGORIAN
METHOD:PUBLISH
X-ORIGINAL-URL:https://theoar.com
X-WR-CALDESC:Events for The Oar Seafood Grille
REFRESH-INTERVAL;VALUE=DURATION:PT1H
X-Robots-Tag:noindex
X-PUBLISHED-TTL:PT1H
BEGIN:VTIMEZONE
TZID:UTC
BEGIN:STANDARD
TZOFFSETFROM:+0000
TZOFFSETTO:+0000
TZNAME:UTC
DTSTART:20250101T000000
END:STANDARD
END:VTIMEZONE
BEGIN:VEVENT
DTSTART;TZID=UTC:20260109T183000
DTEND;TZID=UTC:20260109T220000
DTSTAMP:20260421T084958
CREATED:20260105T162559Z
LAST-MODIFIED:20260105T162559Z
UID:10000539-1767983400-1767996000@theoar.com
SUMMARY:Vin & Lin Duo
DESCRIPTION:Unwind with live music by Vin & Lin Duo\, paired with fresh seafood\, steaks\, and signature cocktails. The perfect way to ease into the weekend!
URL:https://theoar.com/event/vin-lin-duo-5/
ATTACH;FMTTYPE=image/png:https://theoar.com/wp-content/uploads/2026/01/jan9-eventcover.png
END:VEVENT
BEGIN:VEVENT
DTSTART;TZID=UTC:20260110T183000
DTEND;TZID=UTC:20260110T220000
DTSTAMP:20260421T084958
CREATED:20260105T163057Z
LAST-MODIFIED:20260105T163057Z
UID:10000540-1768069800-1768082400@theoar.com
SUMMARY:Matt Bruno
DESCRIPTION:Dinner\, drinks\, and live music by Matt Bruno—your Saturday plans are covered. Sit back\, relax\, and enjoy a great night at The Oar.
URL:https://theoar.com/event/matt-bruno-6/
ATTACH;FMTTYPE=image/png:https://theoar.com/wp-content/uploads/2026/01/jan10-eventcover.png
END:VEVENT
BEGIN:VEVENT
DTSTART;TZID=UTC:20260116T183000
DTEND;TZID=UTC:20260116T220000
DTSTAMP:20260421T084958
CREATED:20260105T163231Z
LAST-MODIFIED:20260113T145452Z
UID:10000541-1768588200-1768600800@theoar.com
SUMMARY:Dean Silva
DESCRIPTION:Start your weekend with smooth acoustic sounds from Dean Silva\, plus all your Oar favorites from the kitchen and bar.
URL:https://theoar.com/event/joe-gentile-urban-acoustic/
ATTACH;FMTTYPE=image/png:https://theoar.com/wp-content/uploads/2026/01/jan16-eventcover-1.png
END:VEVENT
BEGIN:VEVENT
DTSTART;TZID=UTC:20260117T183000
DTEND;TZID=UTC:20260117T220000
DTSTAMP:20260421T084958
CREATED:20260105T163332Z
LAST-MODIFIED:20260113T145548Z
UID:10000542-1768674600-1768687200@theoar.com
SUMMARY:Van Wyen
DESCRIPTION:Live music by Van Wyen sets the tone for a perfect Saturday night. Join us for great food\, drinks\, and an unbeatable atmosphere.
URL:https://theoar.com/event/ed-travers-2/
ATTACH;FMTTYPE=image/png:https://theoar.com/wp-content/uploads/2026/01/jan17-eventcover-1.png
END:VEVENT
BEGIN:VEVENT
DTSTART;TZID=UTC:20260123T183000
DTEND;TZID=UTC:20260123T220000
DTSTAMP:20260421T084958
CREATED:20260105T163446Z
LAST-MODIFIED:20260105T163446Z
UID:10000543-1769193000-1769205600@theoar.com
SUMMARY:Stix & Soul Duo
DESCRIPTION:Feel the rhythm with live music by Stix & Soul Duo while enjoying dinner\, cocktails\, and waterfront dining at its best.
URL:https://theoar.com/event/stix-soul-duo/
ATTACH;FMTTYPE=image/png:https://theoar.com/wp-content/uploads/2026/01/jan23-eventcover.png
END:VEVENT
BEGIN:VEVENT
DTSTART;TZID=UTC:20260124T183000
DTEND;TZID=UTC:20260124T220000
DTSTAMP:20260421T084958
CREATED:20260105T163632Z
LAST-MODIFIED:20260105T163632Z
UID:10000544-1769279400-1769292000@theoar.com
SUMMARY:Jimmy Shaka
DESCRIPTION:Saturday nights are better with Jimmy Shaka live at The Oar! Grab a table\, sip something delicious\, and enjoy the music.
URL:https://theoar.com/event/jimmy-shaka-4/
ATTACH;FMTTYPE=image/png:https://theoar.com/wp-content/uploads/2026/01/jan24-eventcover.png
END:VEVENT
BEGIN:VEVENT
DTSTART;TZID=UTC:20260125T120000
DTEND;TZID=UTC:20260125T210000
DTSTAMP:20260421T084958
CREATED:20260112T192117Z
LAST-MODIFIED:20260128T190519Z
UID:10000547-1769342400-1769374800@theoar.com
SUMMARY:Winter Long Island Restaurant Week
DESCRIPTION:Join us at The Oar Steak & Seafood Grille for Long Island Restaurant Week\, running January 25th through February 1st! \nEnjoy a three-course prix fixe menu for $46 per person (plus tax)\, featuring guest-favorite dishes and seasonal specialties — all crafted to showcase the best of our steak and seafood offerings. \n✨ Event Details:📅 January 25 – February 1🚫 Closed on Mondays🍽️ Three-Course Prix Fixe | $46 per person\nView Our LIRW Menu Here\n📞 Reservations encouraged: (631) 654-8266 \nWhether you’re planning date night\, a night out with friends\, or just an excuse to dine well\, Restaurant Week at The Oar is not to be missed. 🌊🥂 \n👉 Call now to reserve your table!
URL:https://theoar.com/event/winter-long-island-restaurant-week/2026-01-25/
ATTACH;FMTTYPE=image/png:https://theoar.com/wp-content/uploads/2026/01/26winter_Lirw_insta_1920x1080.png
END:VEVENT
BEGIN:VEVENT
DTSTART;TZID=UTC:20260126T120000
DTEND;TZID=UTC:20260126T210000
DTSTAMP:20260421T084958
CREATED:20260112T192117Z
LAST-MODIFIED:20260128T190519Z
UID:10000548-1769428800-1769461200@theoar.com
SUMMARY:Winter Long Island Restaurant Week
DESCRIPTION:Join us at The Oar Steak & Seafood Grille for Long Island Restaurant Week\, running January 25th through February 1st! \nEnjoy a three-course prix fixe menu for $46 per person (plus tax)\, featuring guest-favorite dishes and seasonal specialties — all crafted to showcase the best of our steak and seafood offerings. \n✨ Event Details:📅 January 25 – February 1🚫 Closed on Mondays🍽️ Three-Course Prix Fixe | $46 per person\nView Our LIRW Menu Here\n📞 Reservations encouraged: (631) 654-8266 \nWhether you’re planning date night\, a night out with friends\, or just an excuse to dine well\, Restaurant Week at The Oar is not to be missed. 🌊🥂 \n👉 Call now to reserve your table!
URL:https://theoar.com/event/winter-long-island-restaurant-week/2026-01-26/
ATTACH;FMTTYPE=image/png:https://theoar.com/wp-content/uploads/2026/01/26winter_Lirw_insta_1920x1080.png
END:VEVENT
BEGIN:VEVENT
DTSTART;TZID=UTC:20260127T120000
DTEND;TZID=UTC:20260127T210000
DTSTAMP:20260421T084958
CREATED:20260112T192117Z
LAST-MODIFIED:20260128T190519Z
UID:10000549-1769515200-1769547600@theoar.com
SUMMARY:Winter Long Island Restaurant Week
DESCRIPTION:Join us at The Oar Steak & Seafood Grille for Long Island Restaurant Week\, running January 25th through February 1st! \nEnjoy a three-course prix fixe menu for $46 per person (plus tax)\, featuring guest-favorite dishes and seasonal specialties — all crafted to showcase the best of our steak and seafood offerings. \n✨ Event Details:📅 January 25 – February 1🚫 Closed on Mondays🍽️ Three-Course Prix Fixe | $46 per person\nView Our LIRW Menu Here\n📞 Reservations encouraged: (631) 654-8266 \nWhether you’re planning date night\, a night out with friends\, or just an excuse to dine well\, Restaurant Week at The Oar is not to be missed. 🌊🥂 \n👉 Call now to reserve your table!
URL:https://theoar.com/event/winter-long-island-restaurant-week/2026-01-27/
ATTACH;FMTTYPE=image/png:https://theoar.com/wp-content/uploads/2026/01/26winter_Lirw_insta_1920x1080.png
END:VEVENT
BEGIN:VEVENT
DTSTART;TZID=UTC:20260128T120000
DTEND;TZID=UTC:20260128T210000
DTSTAMP:20260421T084958
CREATED:20260112T192117Z
LAST-MODIFIED:20260128T190519Z
UID:10000550-1769601600-1769634000@theoar.com
SUMMARY:Winter Long Island Restaurant Week
DESCRIPTION:Join us at The Oar Steak & Seafood Grille for Long Island Restaurant Week\, running January 25th through February 1st! \nEnjoy a three-course prix fixe menu for $46 per person (plus tax)\, featuring guest-favorite dishes and seasonal specialties — all crafted to showcase the best of our steak and seafood offerings. \n✨ Event Details:📅 January 25 – February 1🚫 Closed on Mondays🍽️ Three-Course Prix Fixe | $46 per person\nView Our LIRW Menu Here\n📞 Reservations encouraged: (631) 654-8266 \nWhether you’re planning date night\, a night out with friends\, or just an excuse to dine well\, Restaurant Week at The Oar is not to be missed. 🌊🥂 \n👉 Call now to reserve your table!
URL:https://theoar.com/event/winter-long-island-restaurant-week/2026-01-28/
ATTACH;FMTTYPE=image/png:https://theoar.com/wp-content/uploads/2026/01/26winter_Lirw_insta_1920x1080.png
END:VEVENT
BEGIN:VEVENT
DTSTART;TZID=UTC:20260129T120000
DTEND;TZID=UTC:20260129T210000
DTSTAMP:20260421T084958
CREATED:20260112T192117Z
LAST-MODIFIED:20260128T190519Z
UID:10000551-1769688000-1769720400@theoar.com
SUMMARY:Winter Long Island Restaurant Week
DESCRIPTION:Join us at The Oar Steak & Seafood Grille for Long Island Restaurant Week\, running January 25th through February 1st! \nEnjoy a three-course prix fixe menu for $46 per person (plus tax)\, featuring guest-favorite dishes and seasonal specialties — all crafted to showcase the best of our steak and seafood offerings. \n✨ Event Details:📅 January 25 – February 1🚫 Closed on Mondays🍽️ Three-Course Prix Fixe | $46 per person\nView Our LIRW Menu Here\n📞 Reservations encouraged: (631) 654-8266 \nWhether you’re planning date night\, a night out with friends\, or just an excuse to dine well\, Restaurant Week at The Oar is not to be missed. 🌊🥂 \n👉 Call now to reserve your table!
URL:https://theoar.com/event/winter-long-island-restaurant-week/2026-01-29/
ATTACH;FMTTYPE=image/png:https://theoar.com/wp-content/uploads/2026/01/26winter_Lirw_insta_1920x1080.png
END:VEVENT
BEGIN:VEVENT
DTSTART;TZID=UTC:20260130T120000
DTEND;TZID=UTC:20260130T210000
DTSTAMP:20260421T084958
CREATED:20260112T192117Z
LAST-MODIFIED:20260128T190519Z
UID:10000552-1769774400-1769806800@theoar.com
SUMMARY:Winter Long Island Restaurant Week
DESCRIPTION:Join us at The Oar Steak & Seafood Grille for Long Island Restaurant Week\, running January 25th through February 1st! \nEnjoy a three-course prix fixe menu for $46 per person (plus tax)\, featuring guest-favorite dishes and seasonal specialties — all crafted to showcase the best of our steak and seafood offerings. \n✨ Event Details:📅 January 25 – February 1🚫 Closed on Mondays🍽️ Three-Course Prix Fixe | $46 per person\nView Our LIRW Menu Here\n📞 Reservations encouraged: (631) 654-8266 \nWhether you’re planning date night\, a night out with friends\, or just an excuse to dine well\, Restaurant Week at The Oar is not to be missed. 🌊🥂 \n👉 Call now to reserve your table!
URL:https://theoar.com/event/winter-long-island-restaurant-week/2026-01-30/
ATTACH;FMTTYPE=image/png:https://theoar.com/wp-content/uploads/2026/01/26winter_Lirw_insta_1920x1080.png
END:VEVENT
BEGIN:VEVENT
DTSTART;TZID=UTC:20260130T183000
DTEND;TZID=UTC:20260130T220000
DTSTAMP:20260421T084958
CREATED:20260105T163737Z
LAST-MODIFIED:20260105T163737Z
UID:10000545-1769797800-1769810400@theoar.com
SUMMARY:Shawn Rooney & Marcella on the Sax
DESCRIPTION:Live sax\, smooth vocals\, and incredible food—this Friday night is one you won’t want to miss. Join us for an unforgettable evening!
URL:https://theoar.com/event/shawn-rooney-marcella-on-the-sax-7/
ATTACH;FMTTYPE=image/png:https://theoar.com/wp-content/uploads/2026/01/jan30-eventcover.png
END:VEVENT
BEGIN:VEVENT
DTSTART;TZID=UTC:20260131T120000
DTEND;TZID=UTC:20260131T210000
DTSTAMP:20260421T084958
CREATED:20260112T192117Z
LAST-MODIFIED:20260128T190519Z
UID:10000553-1769860800-1769893200@theoar.com
SUMMARY:Winter Long Island Restaurant Week
DESCRIPTION:Join us at The Oar Steak & Seafood Grille for Long Island Restaurant Week\, running January 25th through February 1st! \nEnjoy a three-course prix fixe menu for $46 per person (plus tax)\, featuring guest-favorite dishes and seasonal specialties — all crafted to showcase the best of our steak and seafood offerings. \n✨ Event Details:📅 January 25 – February 1🚫 Closed on Mondays🍽️ Three-Course Prix Fixe | $46 per person\nView Our LIRW Menu Here\n📞 Reservations encouraged: (631) 654-8266 \nWhether you’re planning date night\, a night out with friends\, or just an excuse to dine well\, Restaurant Week at The Oar is not to be missed. 🌊🥂 \n👉 Call now to reserve your table!
URL:https://theoar.com/event/winter-long-island-restaurant-week/2026-01-31/
ATTACH;FMTTYPE=image/png:https://theoar.com/wp-content/uploads/2026/01/26winter_Lirw_insta_1920x1080.png
END:VEVENT
BEGIN:VEVENT
DTSTART;TZID=UTC:20260131T183000
DTEND;TZID=UTC:20260131T220000
DTSTAMP:20260421T084958
CREATED:20260105T163847Z
LAST-MODIFIED:20260105T163847Z
UID:10000546-1769884200-1769896800@theoar.com
SUMMARY:Radiophonics
DESCRIPTION:Wrap up the month with live music by Radiophonics\, plus great eats\, drinks\, and waterfront vibes. Saturday night plans = handled.
URL:https://theoar.com/event/radiophonics/
ATTACH;FMTTYPE=image/png:https://theoar.com/wp-content/uploads/2026/01/jan31-eventcover.png
END:VEVENT
END:VCALENDAR