BEGIN:VCALENDAR
VERSION:2.0
PRODID:-//The Oar Seafood Grille - ECPv6.15.20//NONSGML v1.0//EN
CALSCALE:GREGORIAN
METHOD:PUBLISH
X-ORIGINAL-URL:https://theoar.com
X-WR-CALDESC:Events for The Oar Seafood Grille
REFRESH-INTERVAL;VALUE=DURATION:PT1H
X-Robots-Tag:noindex
X-PUBLISHED-TTL:PT1H
BEGIN:VTIMEZONE
TZID:UTC
BEGIN:STANDARD
TZOFFSETFROM:+0000
TZOFFSETTO:+0000
TZNAME:UTC
DTSTART:20250101T000000
END:STANDARD
END:VTIMEZONE
BEGIN:VEVENT
DTSTART;TZID=UTC:20260524T160000
DTEND;TZID=UTC:20260524T200000
DTSTAMP:20260421T231346
CREATED:20260421T203216Z
LAST-MODIFIED:20260421T203216Z
UID:10000957-1779638400-1779652800@theoar.com
SUMMARY:12X Band
DESCRIPTION:Sunday plans = handled ☀️ 12X Band live at 4PM—daytime drinks\, music\, and waterfront views.
URL:https://theoar.com/event/12x-band/
ATTACH;FMTTYPE=image/png:https://theoar.com/wp-content/uploads/2026/04/may-eventcover_may24.png
END:VEVENT
BEGIN:VEVENT
DTSTART;TZID=UTC:20260525T153000
DTEND;TZID=UTC:20260525T193000
DTSTAMP:20260421T231346
CREATED:20260421T203408Z
LAST-MODIFIED:20260421T203408Z
UID:10000958-1779723000-1779737400@theoar.com
SUMMARY:Radio Remix Band
DESCRIPTION:Close out the long weekend right 🇺🇸 Radio Remix Band live at 3:30PM—one more round before reality hits.
URL:https://theoar.com/event/radio-remix-band/
ATTACH;FMTTYPE=image/png:https://theoar.com/wp-content/uploads/2026/04/may-eventcover_may25.png
END:VEVENT
BEGIN:VEVENT
DTSTART;TZID=UTC:20260529T183000
DTEND;TZID=UTC:20260529T223000
DTSTAMP:20260421T231346
CREATED:20260421T203457Z
LAST-MODIFIED:20260421T203457Z
UID:10000959-1780079400-1780093800@theoar.com
SUMMARY:Panic
DESCRIPTION:End the month on a high note 🎶 Panic live at 6:30PM—grab a table and enjoy the night.
URL:https://theoar.com/event/panic-2/
ATTACH;FMTTYPE=image/png:https://theoar.com/wp-content/uploads/2026/04/may-eventcover_may29.png
END:VEVENT
BEGIN:VEVENT
DTSTART;TZID=UTC:20260530T183000
DTEND;TZID=UTC:20260530T223000
DTSTAMP:20260421T231346
CREATED:20260421T203545Z
LAST-MODIFIED:20260421T203545Z
UID:10000960-1780165800-1780180200@theoar.com
SUMMARY:The Band Easy Street
DESCRIPTION:Good music\, great company 🎤 The Band Easy Street live at 6:30PM—see you by the water.
URL:https://theoar.com/event/the-band-easy-street/
ATTACH;FMTTYPE=image/png:https://theoar.com/wp-content/uploads/2026/04/may-eventcover_may30.png
END:VEVENT
BEGIN:VEVENT
DTSTART;TZID=UTC:20260531T160000
DTEND;TZID=UTC:20260531T200000
DTSTAMP:20260421T231346
CREATED:20260421T203638Z
LAST-MODIFIED:20260421T203638Z
UID:10000961-1780243200-1780257600@theoar.com
SUMMARY:Shades of Grey
DESCRIPTION:Ease into Sunday vibes ☀️ Shades of Grey live at 4PM—the perfect way to wrap up the weekend.
URL:https://theoar.com/event/shades-of-grey/
ATTACH;FMTTYPE=image/png:https://theoar.com/wp-content/uploads/2026/04/may-eventcover_may31.png
END:VEVENT
END:VCALENDAR