BEGIN:VCALENDAR
VERSION:2.0
PRODID:-//The Oar Seafood Grille - ECPv6.15.20//NONSGML v1.0//EN
CALSCALE:GREGORIAN
METHOD:PUBLISH
X-WR-CALNAME:The Oar Seafood Grille
X-ORIGINAL-URL:https://theoar.com
X-WR-CALDESC:Events for The Oar Seafood Grille
REFRESH-INTERVAL;VALUE=DURATION:PT1H
X-Robots-Tag:noindex
X-PUBLISHED-TTL:PT1H
BEGIN:VTIMEZONE
TZID:UTC
BEGIN:STANDARD
TZOFFSETFROM:+0000
TZOFFSETTO:+0000
TZNAME:UTC
DTSTART:20240101T000000
END:STANDARD
END:VTIMEZONE
BEGIN:VEVENT
DTSTART;TZID=UTC:20250524T183000
DTEND;TZID=UTC:20250524T213000
DTSTAMP:20260422T004751
CREATED:20250422T161751Z
LAST-MODIFIED:20250422T161751Z
UID:10000445-1748111400-1748122200@theoar.com
SUMMARY:VHS Band
DESCRIPTION:VHS Band will be rockin’ the stage at The Oar starting at 6:30PM!
URL:https://theoar.com/event/vhs-band/
END:VEVENT
BEGIN:VEVENT
DTSTART;TZID=UTC:20250523T183000
DTEND;TZID=UTC:20250523T213000
DTSTAMP:20260422T004751
CREATED:20250422T161646Z
LAST-MODIFIED:20250422T161646Z
UID:10000444-1748025000-1748035800@theoar.com
SUMMARY:Naked Truth Band
DESCRIPTION:Jam out with Naked Truth Band beginning at 6:30PM!
URL:https://theoar.com/event/naked-truth-band/
END:VEVENT
BEGIN:VEVENT
DTSTART;TZID=UTC:20250517T183000
DTEND;TZID=UTC:20250517T213000
DTSTAMP:20260422T004751
CREATED:20250422T161529Z
LAST-MODIFIED:20250422T161529Z
UID:10000443-1747506600-1747517400@theoar.com
SUMMARY:Lis Beth Roman Solo
DESCRIPTION:Catch Lis Beth Roman Solo bringing the tunes to The Oar starting at 6:30PM!
URL:https://theoar.com/event/lis-beth-roman-solo-2/
END:VEVENT
BEGIN:VEVENT
DTSTART;TZID=UTC:20250516T183000
DTEND;TZID=UTC:20250516T213000
DTSTAMP:20260422T004751
CREATED:20250422T161419Z
LAST-MODIFIED:20250422T161419Z
UID:10000442-1747420200-1747431000@theoar.com
SUMMARY:Vin & PJ Duo
DESCRIPTION:Enjoy the sounds of Vin & PJ Duo at The Oar! Music begins at 6:30PM
URL:https://theoar.com/event/vin-pj-duo/
END:VEVENT
BEGIN:VEVENT
DTSTART;TZID=UTC:20250511T100000
DTEND;TZID=UTC:20250511T140000
DTSTAMP:20260422T004751
CREATED:20250421T155750Z
LAST-MODIFIED:20250421T155750Z
UID:10000437-1746957600-1746972000@theoar.com
SUMMARY:Mother's Day Brunch
DESCRIPTION:🌸 Treat Mom to a beautiful day by the water! 🌸Join us for our Mother’s Day Brunch Buffet on Sunday\, May 11th with seatings at 10:00AM & 12:30PM. 🥂Brunch\, unlimited mimosas\, and memories she’ll never forget 💕Reserve your table today! 📞 631-654-8266 \nVIEW BRUNCH MENU
URL:https://theoar.com/event/mothers-day-brunch/
END:VEVENT
BEGIN:VEVENT
DTSTART;TZID=UTC:20250510T183000
DTEND;TZID=UTC:20250510T213000
DTSTAMP:20260422T004751
CREATED:20250422T161253Z
LAST-MODIFIED:20250422T161253Z
UID:10000441-1746901800-1746912600@theoar.com
SUMMARY:Tom Maxwell
DESCRIPTION:Tom Maxwell will be performing live with us starting at 6:30PM – Don’t miss it!
URL:https://theoar.com/event/tom-maxwell/
END:VEVENT
BEGIN:VEVENT
DTSTART;TZID=UTC:20250509T183000
DTEND;TZID=UTC:20250509T213000
DTSTAMP:20260422T004751
CREATED:20250422T161140Z
LAST-MODIFIED:20250422T161140Z
UID:10000440-1746815400-1746826200@theoar.com
SUMMARY:JD Leonard
DESCRIPTION:Enjoy the sounds of JD Leonard with us starting at 6:30PM!
URL:https://theoar.com/event/jd-leonard-5/
END:VEVENT
BEGIN:VEVENT
DTSTART;TZID=UTC:20250503T183000
DTEND;TZID=UTC:20250503T213000
DTSTAMP:20260422T004751
CREATED:20250422T161038Z
LAST-MODIFIED:20250422T161038Z
UID:10000439-1746297000-1746307800@theoar.com
SUMMARY:Ed Travers Solo
DESCRIPTION:Catch Ed Travers Solo performing with at The Oar! Music begins at 6:30PM
URL:https://theoar.com/event/ed-travers-solo/
END:VEVENT
BEGIN:VEVENT
DTSTART;TZID=UTC:20250502T183000
DTEND;TZID=UTC:20250502T213000
DTSTAMP:20260422T004751
CREATED:20250422T160924Z
LAST-MODIFIED:20250422T160924Z
UID:10000438-1746210600-1746221400@theoar.com
SUMMARY:Shawn Rooney & Marcella on the Sax
DESCRIPTION:Start your weekend off with Shawn Rooney & Marcella on the Sax starting at 6:30PM!
URL:https://theoar.com/event/shawn-rooney-marcella-on-the-sax-3/
END:VEVENT
BEGIN:VEVENT
DTSTART;TZID=UTC:20250426T183000
DTEND;TZID=UTC:20250426T213000
DTSTAMP:20260422T004751
CREATED:20250326T155625Z
LAST-MODIFIED:20250326T155625Z
UID:10000436-1745692200-1745703000@theoar.com
SUMMARY:Con & Ed Acoustic Duo
DESCRIPTION:Catch Con & Ed Acoustic Duo performing live with us at The Oar starting at 6:30PM! \n 
URL:https://theoar.com/event/con-ed-acoustic-duo-2/
END:VEVENT
BEGIN:VEVENT
DTSTART;TZID=UTC:20250425T183000
DTEND;TZID=UTC:20250425T213000
DTSTAMP:20260422T004751
CREATED:20250326T155512Z
LAST-MODIFIED:20250326T155512Z
UID:10000435-1745605800-1745616600@theoar.com
SUMMARY:Lighter Side
DESCRIPTION:Jam out with Lighter Side at The Oar starting at 6:30PM! \n 
URL:https://theoar.com/event/lighter-side-2/
END:VEVENT
BEGIN:VEVENT
DTSTART;TZID=UTC:20250420T100000
DTEND;TZID=UTC:20250420T130000
DTSTAMP:20260422T004751
CREATED:20250318T145736Z
LAST-MODIFIED:20250318T145736Z
UID:10000428-1745143200-1745154000@theoar.com
SUMMARY:Easter Sunday Buffet
DESCRIPTION:🐰🥂 Hop into Easter with a brunch to remember at The Oar! 🌸🐣 Join us on Sunday\, April 20th for our Easter Brunch Buffet\, featuring delicious bites\, unlimited mimosas (for those who indulge 🍾✨)\, and a waterfront view that’s simply egg-straordinary! \n🍽️ Seatings at 10:00 AM & 12:30 PM\n💛 $54 Brunch Only | $69 with Unlimited Mimosas\n🐥 Kids 5-10: $25 | Kids Under 5: Free \n🌅 Our regular dinner menu will be available from 3-7 PM for those who want to keep the celebration going! \n📞 Reservations are a must! Call 631-654-8266 to book your table today. \nVIEW BRUNCH BUFFET MENU
URL:https://theoar.com/event/easter-sunday-buffet/
END:VEVENT
BEGIN:VEVENT
DTSTART;TZID=UTC:20250419T183000
DTEND;TZID=UTC:20250419T213000
DTSTAMP:20260422T004751
CREATED:20250326T155403Z
LAST-MODIFIED:20250326T155403Z
UID:10000434-1745087400-1745098200@theoar.com
SUMMARY:Valerie Rose
DESCRIPTION:Spend the evening enjoying the sounds of Valerie Rose at 6:30PM!
URL:https://theoar.com/event/valerie-rose/
END:VEVENT
BEGIN:VEVENT
DTSTART;TZID=UTC:20250418T183000
DTEND;TZID=UTC:20250418T213000
DTSTAMP:20260422T004751
CREATED:20250326T155249Z
LAST-MODIFIED:20250326T155249Z
UID:10000433-1745001000-1745011800@theoar.com
SUMMARY:Joe Gentile from Urban Acoustic
DESCRIPTION:Enjoy some tunes with Joe Gentile from Urban Acoustic at The Oar! Music begins at 6:30PM
URL:https://theoar.com/event/joe-gentile-from-urban-acoustic-2/
END:VEVENT
BEGIN:VEVENT
DTSTART;TZID=UTC:20250412T183000
DTEND;TZID=UTC:20250412T213000
DTSTAMP:20260422T004751
CREATED:20250326T155120Z
LAST-MODIFIED:20250326T155120Z
UID:10000432-1744482600-1744493400@theoar.com
SUMMARY:Matt Bruno
DESCRIPTION:Catch Matt Bruno performing live with us at 6:30PM! \n 
URL:https://theoar.com/event/matt-bruno-4/
END:VEVENT
BEGIN:VEVENT
DTSTART;TZID=UTC:20250411T183000
DTEND;TZID=UTC:20250411T213000
DTSTAMP:20260422T004751
CREATED:20250326T155019Z
LAST-MODIFIED:20250326T155019Z
UID:10000431-1744396200-1744407000@theoar.com
SUMMARY:Vin & Lin Duo
DESCRIPTION:Jam out with Vin & Lin Duo starting at 6:30PM at The Oar!
URL:https://theoar.com/event/vin-lin-duo/
END:VEVENT
BEGIN:VEVENT
DTSTART;TZID=UTC:20250405T183000
DTEND;TZID=UTC:20250405T213000
DTSTAMP:20260422T004751
CREATED:20250326T154917Z
LAST-MODIFIED:20250326T154917Z
UID:10000430-1743877800-1743888600@theoar.com
SUMMARY:Lis Beth
DESCRIPTION:Spend your Saturday enjoying the sounds of Lis Beth starting at 6:30PM!
URL:https://theoar.com/event/lis-beth/
END:VEVENT
BEGIN:VEVENT
DTSTART;TZID=UTC:20250404T183000
DTEND;TZID=UTC:20250404T213000
DTSTAMP:20260422T004751
CREATED:20250326T154806Z
LAST-MODIFIED:20250326T154806Z
UID:10000429-1743791400-1743802200@theoar.com
SUMMARY:Shawn Rooney & Marcella on the Sax
DESCRIPTION:Get the weekend started with Shawn Rooney & Marcella on the Sax performing live at 6:30PM!
URL:https://theoar.com/event/shawn-rooney-marcella-on-the-sax-2/
END:VEVENT
BEGIN:VEVENT
DTSTART;TZID=UTC:20250329T183000
DTEND;TZID=UTC:20250329T213000
DTSTAMP:20260422T004751
CREATED:20250303T171157Z
LAST-MODIFIED:20250303T171157Z
UID:10000041-1743273000-1743283800@theoar.com
SUMMARY:Rick Eberle
DESCRIPTION:Catch Rick Eberle performing live with us at 6:30PM!
URL:https://theoar.com/event/rick-eberle/
END:VEVENT
BEGIN:VEVENT
DTSTART;TZID=UTC:20250328T183000
DTEND;TZID=UTC:20250328T213000
DTSTAMP:20260422T004751
CREATED:20250303T171025Z
LAST-MODIFIED:20250303T171025Z
UID:10000040-1743186600-1743197400@theoar.com
SUMMARY:Joe Gentile from Urban Acoustic
DESCRIPTION:Start your weekend with Joe Gentile from Urban Acoustic at The Oar! Music begins at 6:30PM
URL:https://theoar.com/event/joe-gentile-from-urban-acoustic/
END:VEVENT
BEGIN:VEVENT
DTSTART;TZID=UTC:20250322T183000
DTEND;TZID=UTC:20250322T213000
DTSTAMP:20260422T004751
CREATED:20250303T170814Z
LAST-MODIFIED:20250303T170814Z
UID:10000039-1742668200-1742679000@theoar.com
SUMMARY:Con & Ed Acoustic Duo
DESCRIPTION:Spend your Saturday enjoying the sweet sounds of Con & Ed Acoustic Duo! Music begins at 6:30PM
URL:https://theoar.com/event/con-ed-acoustic-duo/
END:VEVENT
BEGIN:VEVENT
DTSTART;TZID=UTC:20250321T183000
DTEND;TZID=UTC:20250321T213000
DTSTAMP:20260422T004751
CREATED:20250303T170648Z
LAST-MODIFIED:20250303T170648Z
UID:10000038-1742581800-1742592600@theoar.com
SUMMARY:JD Leonard
DESCRIPTION:Let’s get the weekend started with the sounds of JD Leonard! Music begins at 6:30PM
URL:https://theoar.com/event/jd-leonard-4/
END:VEVENT
BEGIN:VEVENT
DTSTART;TZID=UTC:20250315T183000
DTEND;TZID=UTC:20250315T213000
DTSTAMP:20260422T004751
CREATED:20250303T170403Z
LAST-MODIFIED:20250303T170504Z
UID:10000037-1742063400-1742074200@theoar.com
SUMMARY:Dan Donnelly
DESCRIPTION:Spend your Saturday with Dan Donnelly at The Oar! Music starts at 6:30PM
URL:https://theoar.com/event/dan-donnelly-3/
END:VEVENT
BEGIN:VEVENT
DTSTART;TZID=UTC:20250313T183000
DTEND;TZID=UTC:20250313T213000
DTSTAMP:20260422T004751
CREATED:20250303T170144Z
LAST-MODIFIED:20250303T170144Z
UID:10000035-1741890600-1741901400@theoar.com
SUMMARY:Subtle Adjustments
DESCRIPTION:Get the weekend started early with Subtle Adjustments at The Oar! Music begins at 6:30PM
URL:https://theoar.com/event/subtle-adjustments/
END:VEVENT
BEGIN:VEVENT
DTSTART;TZID=UTC:20250308T183000
DTEND;TZID=UTC:20250308T213000
DTSTAMP:20260422T004751
CREATED:20250303T165953Z
LAST-MODIFIED:20250303T165953Z
UID:10000034-1741458600-1741469400@theoar.com
SUMMARY:Danny Kean
DESCRIPTION:Spend your Saturday jamming with Danny Kean at The Oar! Music begins at 6:30PM
URL:https://theoar.com/event/danny-kean/
END:VEVENT
BEGIN:VEVENT
DTSTART;TZID=UTC:20250307T183000
DTEND;TZID=UTC:20250307T213000
DTSTAMP:20260422T004751
CREATED:20250303T165829Z
LAST-MODIFIED:20250303T165829Z
UID:10000033-1741372200-1741383000@theoar.com
SUMMARY:Lis Beth Duo
DESCRIPTION:Enjoy the sounds of Lis Beth Duo at The Oar! Music begins at 6:30PM
URL:https://theoar.com/event/lis-beth-duo/
END:VEVENT
BEGIN:VEVENT
DTSTART;TZID=UTC:20250303T080000
DTEND;TZID=UTC:20250303T170000
DTSTAMP:20260422T004751
CREATED:20250303T170313Z
LAST-MODIFIED:20250303T170313Z
UID:10000036-1740988800-1741021200@theoar.com
SUMMARY:Shawn Rooney & Marcella on the Sax
DESCRIPTION:Enjoy the sounds of Shawn Rooney & Marcella on the Sax at The Oar! Music begins at 6:30PM
URL:https://theoar.com/event/shawn-rooney-marcella-on-the-sax/
END:VEVENT
BEGIN:VEVENT
DTSTART;TZID=UTC:20250222T183000
DTEND;TZID=UTC:20250222T213000
DTSTAMP:20260422T004751
CREATED:20250127T201824Z
LAST-MODIFIED:20250127T201824Z
UID:10000030-1740249000-1740259800@theoar.com
SUMMARY:Matt Bruno
DESCRIPTION:Catch Matt Bruno performing live at 6:30PM!
URL:https://theoar.com/event/matt-bruno-3/
END:VEVENT
BEGIN:VEVENT
DTSTART;TZID=UTC:20250221T183000
DTEND;TZID=UTC:20250221T213000
DTSTAMP:20260422T004751
CREATED:20250127T201705Z
LAST-MODIFIED:20250127T201705Z
UID:10000029-1740162600-1740173400@theoar.com
SUMMARY:Con & John Acoustic
DESCRIPTION:Get the weekend started with Con & John Acoustic at 6:30PM!
URL:https://theoar.com/event/con-john-acoustic/
END:VEVENT
BEGIN:VEVENT
DTSTART;TZID=UTC:20250215T183000
DTEND;TZID=UTC:20250215T213000
DTSTAMP:20260422T004751
CREATED:20250127T201538Z
LAST-MODIFIED:20250127T201538Z
UID:10000028-1739644200-1739655000@theoar.com
SUMMARY:Sonny Vivonetto
DESCRIPTION:Spend your Saturday enjoying the sounds of Sonny Vivonetto at 6:30PM!
URL:https://theoar.com/event/sonny-vivonetto/
END:VEVENT
END:VCALENDAR